BEGIN:VCALENDAR
VERSION:2.0
PRODID:-//Sologne Karting, Circuit International de Salbris - ECPv6.15.20//NONSGML v1.0//EN
CALSCALE:GREGORIAN
METHOD:PUBLISH
X-WR-CALNAME:Sologne Karting, Circuit International de Salbris
X-ORIGINAL-URL:https://www.sologne-karting.com
X-WR-CALDESC:Évènements pour Sologne Karting, Circuit International de Salbris
REFRESH-INTERVAL;VALUE=DURATION:PT1H
X-Robots-Tag:noindex
X-PUBLISHED-TTL:PT1H
BEGIN:VTIMEZONE
TZID:Europe/Paris
BEGIN:DAYLIGHT
TZOFFSETFROM:+0100
TZOFFSETTO:+0200
TZNAME:CEST
DTSTART:20220327T010000
END:DAYLIGHT
BEGIN:STANDARD
TZOFFSETFROM:+0200
TZOFFSETTO:+0100
TZNAME:CET
DTSTART:20221030T010000
END:STANDARD
BEGIN:DAYLIGHT
TZOFFSETFROM:+0100
TZOFFSETTO:+0200
TZNAME:CEST
DTSTART:20230326T010000
END:DAYLIGHT
BEGIN:STANDARD
TZOFFSETFROM:+0200
TZOFFSETTO:+0100
TZNAME:CET
DTSTART:20231029T010000
END:STANDARD
BEGIN:DAYLIGHT
TZOFFSETFROM:+0100
TZOFFSETTO:+0200
TZNAME:CEST
DTSTART:20240331T010000
END:DAYLIGHT
BEGIN:STANDARD
TZOFFSETFROM:+0200
TZOFFSETTO:+0100
TZNAME:CET
DTSTART:20241027T010000
END:STANDARD
END:VTIMEZONE
BEGIN:VEVENT
DTSTART;TZID=Europe/Paris:20231111T090000
DTEND;TZID=Europe/Paris:20231111T140000
DTSTAMP:20260423T132812
CREATED:20231030T100942Z
LAST-MODIFIED:20231030T100942Z
UID:8004-1699693200-1699711200@www.sologne-karting.com
SUMMARY:Licenciés
DESCRIPTION:
URL:https://www.sologne-karting.com/planning/licencies-379/
CATEGORIES:Licenciés karting
END:VEVENT
BEGIN:VEVENT
DTSTART;TZID=Europe/Paris:20231118T090000
DTEND;TZID=Europe/Paris:20231118T140000
DTSTAMP:20260423T132812
CREATED:20231030T101822Z
LAST-MODIFIED:20231030T101822Z
UID:8022-1700298000-1700316000@www.sologne-karting.com
SUMMARY:Licenciés
DESCRIPTION:
URL:https://www.sologne-karting.com/planning/licencies-380/
CATEGORIES:Licenciés karting
END:VEVENT
BEGIN:VEVENT
DTSTART;TZID=Europe/Paris:20231119T090000
DTEND;TZID=Europe/Paris:20231119T140000
DTSTAMP:20260423T132812
CREATED:20231030T101944Z
LAST-MODIFIED:20231030T101944Z
UID:8026-1700384400-1700402400@www.sologne-karting.com
SUMMARY:Licenciés
DESCRIPTION:
URL:https://www.sologne-karting.com/planning/licencies-381/
CATEGORIES:Licenciés karting
END:VEVENT
BEGIN:VEVENT
DTSTART;TZID=Europe/Paris:20231125T080000
DTEND;TZID=Europe/Paris:20231125T170000
DTSTAMP:20260423T132812
CREATED:20230926T104047Z
LAST-MODIFIED:20231030T102144Z
UID:7880-1700899200-1700931600@www.sologne-karting.com
SUMMARY:Endurance Relax Max (Essais libres) et licenciés
DESCRIPTION:La course traditionnelle de fin de saison est de retour. \nComme chaque année\, la saison se clôture par cette endurance ouverte à tous. \nConvivialité\, bonne humeur sont les seuls autorisés à participer. \nAlors\, inscrivez-vous en suivant CE LIEN \nTéléchargement du règlement en suivant CE LIEN
URL:https://www.sologne-karting.com/planning/endurance-relax-max-essais-libres/
CATEGORIES:Compétition officielle,Licenciés karting
ATTACH;FMTTYPE=image/jpeg:https://www.sologne-karting.com/wp-content/uploads/2023/09/Copie-de-Endurance-relax-Max-2023.jpg
END:VEVENT
END:VCALENDAR