BEGIN:VCALENDAR
VERSION:2.0
PRODID:-//Sologne Karting, Circuit International de Salbris - ECPv6.15.20//NONSGML v1.0//EN
CALSCALE:GREGORIAN
METHOD:PUBLISH
X-ORIGINAL-URL:https://www.sologne-karting.com
X-WR-CALDESC:Évènements pour Sologne Karting, Circuit International de Salbris
REFRESH-INTERVAL;VALUE=DURATION:PT1H
X-Robots-Tag:noindex
X-PUBLISHED-TTL:PT1H
BEGIN:VTIMEZONE
TZID:Europe/Paris
BEGIN:DAYLIGHT
TZOFFSETFROM:+0100
TZOFFSETTO:+0200
TZNAME:CEST
DTSTART:20220327T010000
END:DAYLIGHT
BEGIN:STANDARD
TZOFFSETFROM:+0200
TZOFFSETTO:+0100
TZNAME:CET
DTSTART:20221030T010000
END:STANDARD
BEGIN:DAYLIGHT
TZOFFSETFROM:+0100
TZOFFSETTO:+0200
TZNAME:CEST
DTSTART:20230326T010000
END:DAYLIGHT
BEGIN:STANDARD
TZOFFSETFROM:+0200
TZOFFSETTO:+0100
TZNAME:CET
DTSTART:20231029T010000
END:STANDARD
BEGIN:DAYLIGHT
TZOFFSETFROM:+0100
TZOFFSETTO:+0200
TZNAME:CEST
DTSTART:20240331T010000
END:DAYLIGHT
BEGIN:STANDARD
TZOFFSETFROM:+0200
TZOFFSETTO:+0100
TZNAME:CET
DTSTART:20241027T010000
END:STANDARD
END:VTIMEZONE
BEGIN:VEVENT
DTSTART;TZID=Europe/Paris:20230501T090000
DTEND;TZID=Europe/Paris:20230501T140000
DTSTAMP:20260424T015603
CREATED:20230327T141333Z
LAST-MODIFIED:20230327T141333Z
UID:7376-1682931600-1682949600@www.sologne-karting.com
SUMMARY:Licenciés
DESCRIPTION:
URL:https://www.sologne-karting.com/planning/licencies-375/
CATEGORIES:Licenciés karting
END:VEVENT
BEGIN:VEVENT
DTSTART;TZID=Europe/Paris:20230502T090000
DTEND;TZID=Europe/Paris:20230502T180000
DTSTAMP:20260424T015603
CREATED:20230327T141458Z
LAST-MODIFIED:20230327T141458Z
UID:7378-1683018000-1683050400@www.sologne-karting.com
SUMMARY:Licenciés
DESCRIPTION:
URL:https://www.sologne-karting.com/planning/licencies-376/
CATEGORIES:Licenciés karting
END:VEVENT
BEGIN:VEVENT
DTSTART;TZID=Europe/Paris:20230504T090000
DTEND;TZID=Europe/Paris:20230504T140000
DTSTAMP:20260424T015603
CREATED:20230327T142133Z
LAST-MODIFIED:20230327T142133Z
UID:7382-1683190800-1683208800@www.sologne-karting.com
SUMMARY:Licenciés
DESCRIPTION:
URL:https://www.sologne-karting.com/planning/licencies-377/
CATEGORIES:Licenciés karting
END:VEVENT
BEGIN:VEVENT
DTSTART;TZID=Europe/Paris:20230505T090000
DTEND;TZID=Europe/Paris:20230505T140000
DTSTAMP:20260424T015603
CREATED:20230327T142317Z
LAST-MODIFIED:20230327T142317Z
UID:7386-1683277200-1683295200@www.sologne-karting.com
SUMMARY:Licenciés
DESCRIPTION:
URL:https://www.sologne-karting.com/planning/licencies-378/
CATEGORIES:Licenciés karting
END:VEVENT
BEGIN:VEVENT
DTSTART;TZID=Europe/Paris:20230518T090000
DTEND;TZID=Europe/Paris:20230518T140000
DTSTAMP:20260424T015603
CREATED:20230511T135930Z
LAST-MODIFIED:20230511T135930Z
UID:7440-1684400400-1684418400@www.sologne-karting.com
SUMMARY:Licenciés Karting
DESCRIPTION:
URL:https://www.sologne-karting.com/planning/licencies-karting-642/
CATEGORIES:Licenciés karting
END:VEVENT
END:VCALENDAR