BEGIN:VCALENDAR
VERSION:2.0
PRODID:-//Sologne Karting, Circuit International de Salbris - ECPv6.15.20//NONSGML v1.0//EN
CALSCALE:GREGORIAN
METHOD:PUBLISH
X-WR-CALNAME:Sologne Karting, Circuit International de Salbris
X-ORIGINAL-URL:https://www.sologne-karting.com
X-WR-CALDESC:Évènements pour Sologne Karting, Circuit International de Salbris
REFRESH-INTERVAL;VALUE=DURATION:PT1H
X-Robots-Tag:noindex
X-PUBLISHED-TTL:PT1H
BEGIN:VTIMEZONE
TZID:Europe/Paris
BEGIN:DAYLIGHT
TZOFFSETFROM:+0100
TZOFFSETTO:+0200
TZNAME:CEST
DTSTART:20220327T010000
END:DAYLIGHT
BEGIN:STANDARD
TZOFFSETFROM:+0200
TZOFFSETTO:+0100
TZNAME:CET
DTSTART:20221030T010000
END:STANDARD
BEGIN:DAYLIGHT
TZOFFSETFROM:+0100
TZOFFSETTO:+0200
TZNAME:CEST
DTSTART:20230326T010000
END:DAYLIGHT
BEGIN:STANDARD
TZOFFSETFROM:+0200
TZOFFSETTO:+0100
TZNAME:CET
DTSTART:20231029T010000
END:STANDARD
BEGIN:DAYLIGHT
TZOFFSETFROM:+0100
TZOFFSETTO:+0200
TZNAME:CEST
DTSTART:20240331T010000
END:DAYLIGHT
BEGIN:STANDARD
TZOFFSETFROM:+0200
TZOFFSETTO:+0100
TZNAME:CET
DTSTART:20241027T010000
END:STANDARD
END:VTIMEZONE
BEGIN:VEVENT
DTSTART;TZID=Europe/Paris:20230204T090000
DTEND;TZID=Europe/Paris:20230204T140000
DTSTAMP:20260424T053650
CREATED:20230113T140258Z
LAST-MODIFIED:20230113T140258Z
UID:7095-1675501200-1675519200@www.sologne-karting.com
SUMMARY:Licenciés
DESCRIPTION:
URL:https://www.sologne-karting.com/planning/licencies-347/
CATEGORIES:Licenciés karting
END:VEVENT
BEGIN:VEVENT
DTSTART;TZID=Europe/Paris:20230204T140000
DTEND;TZID=Europe/Paris:20230204T180000
DTSTAMP:20260424T053650
CREATED:20230113T141128Z
LAST-MODIFIED:20230113T141128Z
UID:7097-1675519200-1675533600@www.sologne-karting.com
SUMMARY:LOCATION ET LICENCIES EN ALTERNANCE
DESCRIPTION:
URL:https://www.sologne-karting.com/planning/location-et-licencies-en-alternance/
CATEGORIES:Licenciés karting,Locations adultes/enfants
END:VEVENT
BEGIN:VEVENT
DTSTART;TZID=Europe/Paris:20230205T090000
DTEND;TZID=Europe/Paris:20230205T140000
DTSTAMP:20260424T053650
CREATED:20230113T141415Z
LAST-MODIFIED:20230113T141415Z
UID:7100-1675587600-1675605600@www.sologne-karting.com
SUMMARY:Licenciés
DESCRIPTION:
URL:https://www.sologne-karting.com/planning/licencies-348/
CATEGORIES:Licenciés karting
END:VEVENT
BEGIN:VEVENT
DTSTART;TZID=Europe/Paris:20230205T140000
DTEND;TZID=Europe/Paris:20230205T180000
DTSTAMP:20260424T053650
CREATED:20230113T141517Z
LAST-MODIFIED:20230113T141517Z
UID:7102-1675605600-1675620000@www.sologne-karting.com
SUMMARY:LOCATION ET LICENCIES EN ALTERNANCE
DESCRIPTION:
URL:https://www.sologne-karting.com/planning/location-et-licencies-en-alternance-2/
CATEGORIES:Licenciés karting,Locations adultes/enfants
END:VEVENT
BEGIN:VEVENT
DTSTART;TZID=Europe/Paris:20230209T090000
DTEND;TZID=Europe/Paris:20230209T180000
DTSTAMP:20260424T053650
CREATED:20230113T142304Z
LAST-MODIFIED:20230113T142304Z
UID:7112-1675933200-1675965600@www.sologne-karting.com
SUMMARY:Licenciés Karting
DESCRIPTION:
URL:https://www.sologne-karting.com/planning/licencies-karting-638/
CATEGORIES:Licenciés karting
END:VEVENT
BEGIN:VEVENT
DTSTART;TZID=Europe/Paris:20230210T090000
DTEND;TZID=Europe/Paris:20230210T180000
DTSTAMP:20260424T053650
CREATED:20230113T142527Z
LAST-MODIFIED:20230113T142527Z
UID:7114-1676019600-1676052000@www.sologne-karting.com
SUMMARY:Licenciés Karting
DESCRIPTION:
URL:https://www.sologne-karting.com/planning/licencies-karting-639/
CATEGORIES:Licenciés karting
END:VEVENT
BEGIN:VEVENT
DTSTART;TZID=Europe/Paris:20230211T090000
DTEND;TZID=Europe/Paris:20230211T140000
DTSTAMP:20260424T053650
CREATED:20230113T142611Z
LAST-MODIFIED:20230113T142611Z
UID:7116-1676106000-1676124000@www.sologne-karting.com
SUMMARY:Licenciés Karting
DESCRIPTION:
URL:https://www.sologne-karting.com/planning/licencies-karting-640/
CATEGORIES:Licenciés karting
END:VEVENT
BEGIN:VEVENT
DTSTART;TZID=Europe/Paris:20230211T140000
DTEND;TZID=Europe/Paris:20230211T180000
DTSTAMP:20260424T053650
CREATED:20230113T142725Z
LAST-MODIFIED:20230113T142725Z
UID:7118-1676124000-1676138400@www.sologne-karting.com
SUMMARY:LOCATION ET LICENCIES EN ALTERNANCE
DESCRIPTION:
URL:https://www.sologne-karting.com/planning/location-et-licencies-en-alternance-3/
CATEGORIES:Licenciés karting,Locations adultes/enfants
END:VEVENT
BEGIN:VEVENT
DTSTART;TZID=Europe/Paris:20230212T090000
DTEND;TZID=Europe/Paris:20230212T140000
DTSTAMP:20260424T053650
CREATED:20230113T142832Z
LAST-MODIFIED:20230113T143647Z
UID:7120-1676192400-1676210400@www.sologne-karting.com
SUMMARY:LICENCIES
DESCRIPTION:
URL:https://www.sologne-karting.com/planning/licencies-349/
CATEGORIES:Licenciés karting
END:VEVENT
BEGIN:VEVENT
DTSTART;TZID=Europe/Paris:20230222T090000
DTEND;TZID=Europe/Paris:20230222T140000
DTSTAMP:20260424T053650
CREATED:20230113T144319Z
LAST-MODIFIED:20230113T144331Z
UID:7139-1677056400-1677074400@www.sologne-karting.com
SUMMARY:Licenciés
DESCRIPTION:
URL:https://www.sologne-karting.com/planning/licencies-350/
CATEGORIES:Licenciés karting
END:VEVENT
BEGIN:VEVENT
DTSTART;TZID=Europe/Paris:20230223T090000
DTEND;TZID=Europe/Paris:20230223T140000
DTSTAMP:20260424T053650
CREATED:20230113T144506Z
LAST-MODIFIED:20230113T144506Z
UID:7144-1677142800-1677160800@www.sologne-karting.com
SUMMARY:Licenciés
DESCRIPTION:
URL:https://www.sologne-karting.com/planning/licencies-351/
CATEGORIES:Licenciés karting
END:VEVENT
BEGIN:VEVENT
DTSTART;TZID=Europe/Paris:20230224T090000
DTEND;TZID=Europe/Paris:20230224T140000
DTSTAMP:20260424T053650
CREATED:20230113T145042Z
LAST-MODIFIED:20230113T145042Z
UID:7151-1677229200-1677247200@www.sologne-karting.com
SUMMARY:Licenciés
DESCRIPTION:
URL:https://www.sologne-karting.com/planning/licencies-352/
CATEGORIES:Licenciés karting
END:VEVENT
BEGIN:VEVENT
DTSTART;TZID=Europe/Paris:20230226T090000
DTEND;TZID=Europe/Paris:20230226T140000
DTSTAMP:20260424T053650
CREATED:20230113T145342Z
LAST-MODIFIED:20230113T145342Z
UID:7159-1677402000-1677420000@www.sologne-karting.com
SUMMARY:Licenciés
DESCRIPTION:
URL:https://www.sologne-karting.com/planning/licencies-353/
CATEGORIES:Licenciés karting
END:VEVENT
END:VCALENDAR