BEGIN:VCALENDAR
VERSION:2.0
PRODID:-//Sologne Karting, Circuit International de Salbris - ECPv6.15.20//NONSGML v1.0//EN
CALSCALE:GREGORIAN
METHOD:PUBLISH
X-ORIGINAL-URL:https://www.sologne-karting.com
X-WR-CALDESC:Évènements pour Sologne Karting, Circuit International de Salbris
REFRESH-INTERVAL;VALUE=DURATION:PT1H
X-Robots-Tag:noindex
X-PUBLISHED-TTL:PT1H
BEGIN:VTIMEZONE
TZID:Europe/Paris
BEGIN:DAYLIGHT
TZOFFSETFROM:+0100
TZOFFSETTO:+0200
TZNAME:CEST
DTSTART:20210328T010000
END:DAYLIGHT
BEGIN:STANDARD
TZOFFSETFROM:+0200
TZOFFSETTO:+0100
TZNAME:CET
DTSTART:20211031T010000
END:STANDARD
BEGIN:DAYLIGHT
TZOFFSETFROM:+0100
TZOFFSETTO:+0200
TZNAME:CEST
DTSTART:20220327T010000
END:DAYLIGHT
BEGIN:STANDARD
TZOFFSETFROM:+0200
TZOFFSETTO:+0100
TZNAME:CET
DTSTART:20221030T010000
END:STANDARD
BEGIN:DAYLIGHT
TZOFFSETFROM:+0100
TZOFFSETTO:+0200
TZNAME:CEST
DTSTART:20230326T010000
END:DAYLIGHT
BEGIN:STANDARD
TZOFFSETFROM:+0200
TZOFFSETTO:+0100
TZNAME:CET
DTSTART:20231029T010000
END:STANDARD
END:VTIMEZONE
BEGIN:VEVENT
DTSTART;TZID=Europe/Paris:20220704T120000
DTEND;TZID=Europe/Paris:20220704T180000
DTSTAMP:20260424T145016
CREATED:20220628T123429Z
LAST-MODIFIED:20220628T123429Z
UID:6462-1656936000-1656957600@www.sologne-karting.com
SUMMARY:Licenciés
DESCRIPTION:
URL:https://www.sologne-karting.com/planning/licencies-294/
CATEGORIES:Licenciés karting
END:VEVENT
BEGIN:VEVENT
DTSTART;TZID=Europe/Paris:20220707T090000
DTEND;TZID=Europe/Paris:20220707T180000
DTSTAMP:20260424T145016
CREATED:20220628T123812Z
LAST-MODIFIED:20220628T123812Z
UID:6468-1657184400-1657216800@www.sologne-karting.com
SUMMARY:Licenciés
DESCRIPTION:
URL:https://www.sologne-karting.com/planning/licencies-295/
CATEGORIES:Licenciés karting
END:VEVENT
BEGIN:VEVENT
DTSTART;TZID=Europe/Paris:20220708T120000
DTEND;TZID=Europe/Paris:20220708T180000
DTSTAMP:20260424T145016
CREATED:20220628T124042Z
LAST-MODIFIED:20220628T124042Z
UID:6472-1657281600-1657303200@www.sologne-karting.com
SUMMARY:Licenciés
DESCRIPTION:
URL:https://www.sologne-karting.com/planning/licencies-296/
CATEGORIES:Licenciés karting
END:VEVENT
BEGIN:VEVENT
DTSTART;TZID=Europe/Paris:20220711T090000
DTEND;TZID=Europe/Paris:20220711T140000
DTSTAMP:20260424T145016
CREATED:20220628T124527Z
LAST-MODIFIED:20220628T124527Z
UID:6482-1657530000-1657548000@www.sologne-karting.com
SUMMARY:Licenciés
DESCRIPTION:
URL:https://www.sologne-karting.com/planning/licencies-297/
CATEGORIES:Licenciés karting
END:VEVENT
BEGIN:VEVENT
DTSTART;TZID=Europe/Paris:20220712T090000
DTEND;TZID=Europe/Paris:20220712T180000
DTSTAMP:20260424T145016
CREATED:20220628T124728Z
LAST-MODIFIED:20220628T124728Z
UID:6486-1657616400-1657648800@www.sologne-karting.com
SUMMARY:Licenciés
DESCRIPTION:
URL:https://www.sologne-karting.com/planning/licencies-298/
CATEGORIES:Licenciés karting
END:VEVENT
BEGIN:VEVENT
DTSTART;TZID=Europe/Paris:20220714T090000
DTEND;TZID=Europe/Paris:20220714T140000
DTSTAMP:20260424T145016
CREATED:20220628T125021Z
LAST-MODIFIED:20220628T125021Z
UID:6492-1657789200-1657807200@www.sologne-karting.com
SUMMARY:Licenciés
DESCRIPTION:
URL:https://www.sologne-karting.com/planning/licencies-299/
CATEGORIES:Licenciés karting
END:VEVENT
BEGIN:VEVENT
DTSTART;TZID=Europe/Paris:20220715T090000
DTEND;TZID=Europe/Paris:20220715T140000
DTSTAMP:20260424T145016
CREATED:20220628T125157Z
LAST-MODIFIED:20220628T132522Z
UID:6496-1657875600-1657893600@www.sologne-karting.com
SUMMARY:Licenciés
DESCRIPTION:
URL:https://www.sologne-karting.com/planning/licencies-300/
CATEGORIES:Licenciés karting
END:VEVENT
BEGIN:VEVENT
DTSTART;TZID=Europe/Paris:20220716T090000
DTEND;TZID=Europe/Paris:20220716T140000
DTSTAMP:20260424T145016
CREATED:20220628T125353Z
LAST-MODIFIED:20220628T125353Z
UID:6500-1657962000-1657980000@www.sologne-karting.com
SUMMARY:Licenciés
DESCRIPTION:
URL:https://www.sologne-karting.com/planning/licencies-301/
CATEGORIES:Licenciés karting
END:VEVENT
BEGIN:VEVENT
DTSTART;TZID=Europe/Paris:20220717T090000
DTEND;TZID=Europe/Paris:20220717T140000
DTSTAMP:20260424T145016
CREATED:20220628T125537Z
LAST-MODIFIED:20220628T125537Z
UID:6504-1658048400-1658066400@www.sologne-karting.com
SUMMARY:Licenciés
DESCRIPTION:
URL:https://www.sologne-karting.com/planning/licencies-302/
CATEGORIES:Licenciés karting
END:VEVENT
BEGIN:VEVENT
DTSTART;TZID=Europe/Paris:20220718T090000
DTEND;TZID=Europe/Paris:20220718T140000
DTSTAMP:20260424T145016
CREATED:20220628T125710Z
LAST-MODIFIED:20220628T125710Z
UID:6508-1658134800-1658152800@www.sologne-karting.com
SUMMARY:Licenciés
DESCRIPTION:
URL:https://www.sologne-karting.com/planning/licencies-303/
CATEGORIES:Licenciés karting
END:VEVENT
BEGIN:VEVENT
DTSTART;TZID=Europe/Paris:20220724T090000
DTEND;TZID=Europe/Paris:20220724T140000
DTSTAMP:20260424T145016
CREATED:20220628T131041Z
LAST-MODIFIED:20220628T131041Z
UID:6531-1658653200-1658671200@www.sologne-karting.com
SUMMARY:Licenciés
DESCRIPTION:
URL:https://www.sologne-karting.com/planning/licencies-304/
CATEGORIES:Licenciés karting
END:VEVENT
BEGIN:VEVENT
DTSTART;TZID=Europe/Paris:20220725T090000
DTEND;TZID=Europe/Paris:20220725T140000
DTSTAMP:20260424T145016
CREATED:20220628T131223Z
LAST-MODIFIED:20220628T131223Z
UID:6535-1658739600-1658757600@www.sologne-karting.com
SUMMARY:Licenciés
DESCRIPTION:
URL:https://www.sologne-karting.com/planning/licencies-305/
CATEGORIES:Licenciés karting
END:VEVENT
BEGIN:VEVENT
DTSTART;TZID=Europe/Paris:20220731T090000
DTEND;TZID=Europe/Paris:20220731T140000
DTSTAMP:20260424T145016
CREATED:20220628T132114Z
LAST-MODIFIED:20220628T132114Z
UID:6558-1659258000-1659276000@www.sologne-karting.com
SUMMARY:Licenciés
DESCRIPTION:
URL:https://www.sologne-karting.com/planning/licencies-308/
CATEGORIES:Licenciés karting
END:VEVENT
END:VCALENDAR