BEGIN:VCALENDAR
VERSION:2.0
PRODID:-//Sologne Karting, Circuit International de Salbris - ECPv6.15.20//NONSGML v1.0//EN
CALSCALE:GREGORIAN
METHOD:PUBLISH
X-WR-CALNAME:Sologne Karting, Circuit International de Salbris
X-ORIGINAL-URL:https://www.sologne-karting.com
X-WR-CALDESC:Évènements pour Sologne Karting, Circuit International de Salbris
REFRESH-INTERVAL;VALUE=DURATION:PT1H
X-Robots-Tag:noindex
X-PUBLISHED-TTL:PT1H
BEGIN:VTIMEZONE
TZID:Europe/Paris
BEGIN:DAYLIGHT
TZOFFSETFROM:+0100
TZOFFSETTO:+0200
TZNAME:CEST
DTSTART:20210328T010000
END:DAYLIGHT
BEGIN:STANDARD
TZOFFSETFROM:+0200
TZOFFSETTO:+0100
TZNAME:CET
DTSTART:20211031T010000
END:STANDARD
BEGIN:DAYLIGHT
TZOFFSETFROM:+0100
TZOFFSETTO:+0200
TZNAME:CEST
DTSTART:20220327T010000
END:DAYLIGHT
BEGIN:STANDARD
TZOFFSETFROM:+0200
TZOFFSETTO:+0100
TZNAME:CET
DTSTART:20221030T010000
END:STANDARD
BEGIN:DAYLIGHT
TZOFFSETFROM:+0100
TZOFFSETTO:+0200
TZNAME:CEST
DTSTART:20230326T010000
END:DAYLIGHT
BEGIN:STANDARD
TZOFFSETFROM:+0200
TZOFFSETTO:+0100
TZNAME:CET
DTSTART:20231029T010000
END:STANDARD
END:VTIMEZONE
BEGIN:VEVENT
DTSTART;TZID=Europe/Paris:20220505T090000
DTEND;TZID=Europe/Paris:20220505T140000
DTSTAMP:20260424T172649
CREATED:20220420T145530Z
LAST-MODIFIED:20220420T145530Z
UID:6289-1651741200-1651759200@www.sologne-karting.com
SUMMARY:Licenciés
DESCRIPTION:
URL:https://www.sologne-karting.com/planning/licencies-287/
CATEGORIES:Licenciés karting
END:VEVENT
BEGIN:VEVENT
DTSTART;TZID=Europe/Paris:20220506T090000
DTEND;TZID=Europe/Paris:20220506T140000
DTSTAMP:20260424T172649
CREATED:20220420T145702Z
LAST-MODIFIED:20220420T145702Z
UID:6293-1651827600-1651845600@www.sologne-karting.com
SUMMARY:Licenciés
DESCRIPTION:
URL:https://www.sologne-karting.com/planning/licencies-288/
CATEGORIES:Licenciés karting
END:VEVENT
BEGIN:VEVENT
DTSTART;TZID=Europe/Paris:20220508T090000
DTEND;TZID=Europe/Paris:20220508T140000
DTSTAMP:20260424T172649
CREATED:20220420T150056Z
LAST-MODIFIED:20220420T150056Z
UID:6299-1652000400-1652018400@www.sologne-karting.com
SUMMARY:Licenciés
DESCRIPTION:
URL:https://www.sologne-karting.com/planning/licencies-289/
CATEGORIES:Licenciés karting
END:VEVENT
BEGIN:VEVENT
DTSTART;TZID=Europe/Paris:20220509T140000
DTEND;TZID=Europe/Paris:20220509T180000
DTSTAMP:20260424T172649
CREATED:20220505T094843Z
LAST-MODIFIED:20220505T094843Z
UID:6313-1652104800-1652119200@www.sologne-karting.com
SUMMARY:Licenciés
DESCRIPTION:
URL:https://www.sologne-karting.com/planning/licencies-290/
CATEGORIES:Licenciés karting
END:VEVENT
BEGIN:VEVENT
DTSTART;TZID=Europe/Paris:20220526T090000
DTEND;TZID=Europe/Paris:20220526T140000
DTSTAMP:20260424T172649
CREATED:20220513T091109Z
LAST-MODIFIED:20220513T091109Z
UID:6361-1653555600-1653573600@www.sologne-karting.com
SUMMARY:Licenciés
DESCRIPTION:
URL:https://www.sologne-karting.com/planning/licencies-291/
CATEGORIES:Licenciés karting
END:VEVENT
BEGIN:VEVENT
DTSTART;TZID=Europe/Paris:20220529T090000
DTEND;TZID=Europe/Paris:20220529T140000
DTSTAMP:20260424T172649
CREATED:20220513T091425Z
LAST-MODIFIED:20220513T091425Z
UID:6367-1653814800-1653832800@www.sologne-karting.com
SUMMARY:Licenciés
DESCRIPTION:
URL:https://www.sologne-karting.com/planning/licencies-292/
CATEGORIES:Licenciés karting
END:VEVENT
END:VCALENDAR