BEGIN:VCALENDAR
VERSION:2.0
PRODID:-//Sologne Karting, Circuit International de Salbris - ECPv6.15.20//NONSGML v1.0//EN
CALSCALE:GREGORIAN
METHOD:PUBLISH
X-ORIGINAL-URL:https://www.sologne-karting.com
X-WR-CALDESC:Évènements pour Sologne Karting, Circuit International de Salbris
REFRESH-INTERVAL;VALUE=DURATION:PT1H
X-Robots-Tag:noindex
X-PUBLISHED-TTL:PT1H
BEGIN:VTIMEZONE
TZID:Europe/Paris
BEGIN:DAYLIGHT
TZOFFSETFROM:+0100
TZOFFSETTO:+0200
TZNAME:CEST
DTSTART:20210328T010000
END:DAYLIGHT
BEGIN:STANDARD
TZOFFSETFROM:+0200
TZOFFSETTO:+0100
TZNAME:CET
DTSTART:20211031T010000
END:STANDARD
BEGIN:DAYLIGHT
TZOFFSETFROM:+0100
TZOFFSETTO:+0200
TZNAME:CEST
DTSTART:20220327T010000
END:DAYLIGHT
BEGIN:STANDARD
TZOFFSETFROM:+0200
TZOFFSETTO:+0100
TZNAME:CET
DTSTART:20221030T010000
END:STANDARD
BEGIN:DAYLIGHT
TZOFFSETFROM:+0100
TZOFFSETTO:+0200
TZNAME:CEST
DTSTART:20230326T010000
END:DAYLIGHT
BEGIN:STANDARD
TZOFFSETFROM:+0200
TZOFFSETTO:+0100
TZNAME:CET
DTSTART:20231029T010000
END:STANDARD
END:VTIMEZONE
BEGIN:VEVENT
DTSTART;TZID=Europe/Paris:20220305T090000
DTEND;TZID=Europe/Paris:20220305T140000
DTSTAMP:20260424T194846
CREATED:20220121T111952Z
LAST-MODIFIED:20220121T111952Z
UID:6088-1646470800-1646488800@www.sologne-karting.com
SUMMARY:Licenciés
DESCRIPTION:
URL:https://www.sologne-karting.com/planning/licencies-270/
CATEGORIES:Licenciés karting
END:VEVENT
BEGIN:VEVENT
DTSTART;TZID=Europe/Paris:20220313T090000
DTEND;TZID=Europe/Paris:20220313T180000
DTSTAMP:20260424T194846
CREATED:20220308T101508Z
LAST-MODIFIED:20220308T101508Z
UID:6113-1647162000-1647194400@www.sologne-karting.com
SUMMARY:OPEN DAY (Licenciés 2 roues et Karts adultes)
DESCRIPTION:
URL:https://www.sologne-karting.com/planning/open-day-licencies-2-roues-et-karts-adultes/
CATEGORIES:2 ROUES,Licenciés karting
END:VEVENT
BEGIN:VEVENT
DTSTART;TZID=Europe/Paris:20220319T090000
DTEND;TZID=Europe/Paris:20220319T140000
DTSTAMP:20260424T194846
CREATED:20220309T094139Z
LAST-MODIFIED:20220309T094139Z
UID:6131-1647680400-1647698400@www.sologne-karting.com
SUMMARY:Licenciés
DESCRIPTION:
URL:https://www.sologne-karting.com/planning/licencies-272/
CATEGORIES:Licenciés karting
END:VEVENT
BEGIN:VEVENT
DTSTART;TZID=Europe/Paris:20220320T090000
DTEND;TZID=Europe/Paris:20220320T140000
DTSTAMP:20260424T194846
CREATED:20220309T094353Z
LAST-MODIFIED:20220309T094353Z
UID:6135-1647766800-1647784800@www.sologne-karting.com
SUMMARY:Licenciés
DESCRIPTION:
URL:https://www.sologne-karting.com/planning/licencies-273/
CATEGORIES:Licenciés karting
END:VEVENT
BEGIN:VEVENT
DTSTART;TZID=Europe/Paris:20220326T090000
DTEND;TZID=Europe/Paris:20220326T140000
DTSTAMP:20260424T194846
CREATED:20220309T095249Z
LAST-MODIFIED:20220309T095249Z
UID:6152-1648285200-1648303200@www.sologne-karting.com
SUMMARY:Licenciés
DESCRIPTION:
URL:https://www.sologne-karting.com/planning/licencies-274/
CATEGORIES:Licenciés karting
END:VEVENT
BEGIN:VEVENT
DTSTART;TZID=Europe/Paris:20220328T140000
DTEND;TZID=Europe/Paris:20220328T180000
DTSTAMP:20260424T194846
CREATED:20220309T095936Z
LAST-MODIFIED:20220309T095936Z
UID:6162-1648476000-1648490400@www.sologne-karting.com
SUMMARY:Licenciés
DESCRIPTION:
URL:https://www.sologne-karting.com/planning/licencies-275/
CATEGORIES:Licenciés karting
END:VEVENT
END:VCALENDAR