BEGIN:VCALENDAR
VERSION:2.0
PRODID:-//Sologne Karting, Circuit International de Salbris - ECPv6.15.20//NONSGML v1.0//EN
CALSCALE:GREGORIAN
METHOD:PUBLISH
X-WR-CALNAME:Sologne Karting, Circuit International de Salbris
X-ORIGINAL-URL:https://www.sologne-karting.com
X-WR-CALDESC:Évènements pour Sologne Karting, Circuit International de Salbris
REFRESH-INTERVAL;VALUE=DURATION:PT1H
X-Robots-Tag:noindex
X-PUBLISHED-TTL:PT1H
BEGIN:VTIMEZONE
TZID:Europe/Paris
BEGIN:DAYLIGHT
TZOFFSETFROM:+0100
TZOFFSETTO:+0200
TZNAME:CEST
DTSTART:20200329T010000
END:DAYLIGHT
BEGIN:STANDARD
TZOFFSETFROM:+0200
TZOFFSETTO:+0100
TZNAME:CET
DTSTART:20201025T010000
END:STANDARD
BEGIN:DAYLIGHT
TZOFFSETFROM:+0100
TZOFFSETTO:+0200
TZNAME:CEST
DTSTART:20210328T010000
END:DAYLIGHT
BEGIN:STANDARD
TZOFFSETFROM:+0200
TZOFFSETTO:+0100
TZNAME:CET
DTSTART:20211031T010000
END:STANDARD
BEGIN:DAYLIGHT
TZOFFSETFROM:+0100
TZOFFSETTO:+0200
TZNAME:CEST
DTSTART:20220327T010000
END:DAYLIGHT
BEGIN:STANDARD
TZOFFSETFROM:+0200
TZOFFSETTO:+0100
TZNAME:CET
DTSTART:20221030T010000
END:STANDARD
END:VTIMEZONE
BEGIN:VEVENT
DTSTART;TZID=Europe/Paris:20211211T140000
DTEND;TZID=Europe/Paris:20211211T170000
DTSTAMP:20260424T232310
CREATED:20211209T082009Z
LAST-MODIFIED:20211209T082009Z
UID:5904-1639231200-1639242000@www.sologne-karting.com
SUMMARY:Licenciés
DESCRIPTION:
URL:https://www.sologne-karting.com/planning/licencies-260/
CATEGORIES:Licenciés karting
END:VEVENT
BEGIN:VEVENT
DTSTART;TZID=Europe/Paris:20211218T090000
DTEND;TZID=Europe/Paris:20211218T170000
DTSTAMP:20260424T232310
CREATED:20211209T080917Z
LAST-MODIFIED:20211209T080917Z
UID:5882-1639818000-1639846800@www.sologne-karting.com
SUMMARY:Licenciés
DESCRIPTION:
URL:https://www.sologne-karting.com/planning/licencies-252/
CATEGORIES:Licenciés karting
END:VEVENT
BEGIN:VEVENT
DTSTART;TZID=Europe/Paris:20211219T090000
DTEND;TZID=Europe/Paris:20211219T170000
DTSTAMP:20260424T232310
CREATED:20211209T081027Z
LAST-MODIFIED:20211209T081027Z
UID:5884-1639904400-1639933200@www.sologne-karting.com
SUMMARY:Licenciés
DESCRIPTION:
URL:https://www.sologne-karting.com/planning/licencies-253/
CATEGORIES:Licenciés karting
END:VEVENT
BEGIN:VEVENT
DTSTART;TZID=Europe/Paris:20211221T090000
DTEND;TZID=Europe/Paris:20211221T170000
DTSTAMP:20260424T232310
CREATED:20211209T081103Z
LAST-MODIFIED:20211209T081103Z
UID:5886-1640077200-1640106000@www.sologne-karting.com
SUMMARY:Licenciés
DESCRIPTION:
URL:https://www.sologne-karting.com/planning/licencies-254/
CATEGORIES:Licenciés karting
END:VEVENT
BEGIN:VEVENT
DTSTART;TZID=Europe/Paris:20211222T090000
DTEND;TZID=Europe/Paris:20211222T170000
DTSTAMP:20260424T232310
CREATED:20211209T081136Z
LAST-MODIFIED:20211209T081136Z
UID:5888-1640163600-1640192400@www.sologne-karting.com
SUMMARY:Licenciés
DESCRIPTION:
URL:https://www.sologne-karting.com/planning/licencies-255/
CATEGORIES:Licenciés karting
END:VEVENT
BEGIN:VEVENT
DTSTART;TZID=Europe/Paris:20211223T090000
DTEND;TZID=Europe/Paris:20211223T170000
DTSTAMP:20260424T232310
CREATED:20211209T081213Z
LAST-MODIFIED:20211209T081213Z
UID:5890-1640250000-1640278800@www.sologne-karting.com
SUMMARY:Licenciés
DESCRIPTION:
URL:https://www.sologne-karting.com/planning/licencies-256/
CATEGORIES:Licenciés karting
END:VEVENT
BEGIN:VEVENT
DTSTART;TZID=Europe/Paris:20211228T090000
DTEND;TZID=Europe/Paris:20211228T170000
DTSTAMP:20260424T232310
CREATED:20211209T081245Z
LAST-MODIFIED:20211209T081245Z
UID:5892-1640682000-1640710800@www.sologne-karting.com
SUMMARY:Licenciés
DESCRIPTION:
URL:https://www.sologne-karting.com/planning/licencies-257/
CATEGORIES:Licenciés karting
END:VEVENT
BEGIN:VEVENT
DTSTART;TZID=Europe/Paris:20211229T090000
DTEND;TZID=Europe/Paris:20211229T170000
DTSTAMP:20260424T232310
CREATED:20211209T081314Z
LAST-MODIFIED:20211209T081314Z
UID:5894-1640768400-1640797200@www.sologne-karting.com
SUMMARY:Licenciés
DESCRIPTION:
URL:https://www.sologne-karting.com/planning/licencies-258/
CATEGORIES:Licenciés karting
END:VEVENT
BEGIN:VEVENT
DTSTART;TZID=Europe/Paris:20211230T090000
DTEND;TZID=Europe/Paris:20211230T170000
DTSTAMP:20260424T232310
CREATED:20211209T081340Z
LAST-MODIFIED:20211209T081340Z
UID:5896-1640854800-1640883600@www.sologne-karting.com
SUMMARY:Licenciés
DESCRIPTION:
URL:https://www.sologne-karting.com/planning/licencies-259/
CATEGORIES:Licenciés karting
END:VEVENT
END:VCALENDAR