BEGIN:VCALENDAR
VERSION:2.0
PRODID:-//Sologne Karting, Circuit International de Salbris - ECPv6.15.20//NONSGML v1.0//EN
CALSCALE:GREGORIAN
METHOD:PUBLISH
X-ORIGINAL-URL:https://www.sologne-karting.com
X-WR-CALDESC:Évènements pour Sologne Karting, Circuit International de Salbris
REFRESH-INTERVAL;VALUE=DURATION:PT1H
X-Robots-Tag:noindex
X-PUBLISHED-TTL:PT1H
BEGIN:VTIMEZONE
TZID:Europe/Paris
BEGIN:DAYLIGHT
TZOFFSETFROM:+0100
TZOFFSETTO:+0200
TZNAME:CEST
DTSTART:20200329T010000
END:DAYLIGHT
BEGIN:STANDARD
TZOFFSETFROM:+0200
TZOFFSETTO:+0100
TZNAME:CET
DTSTART:20201025T010000
END:STANDARD
BEGIN:DAYLIGHT
TZOFFSETFROM:+0100
TZOFFSETTO:+0200
TZNAME:CEST
DTSTART:20210328T010000
END:DAYLIGHT
BEGIN:STANDARD
TZOFFSETFROM:+0200
TZOFFSETTO:+0100
TZNAME:CET
DTSTART:20211031T010000
END:STANDARD
BEGIN:DAYLIGHT
TZOFFSETFROM:+0100
TZOFFSETTO:+0200
TZNAME:CEST
DTSTART:20220327T010000
END:DAYLIGHT
BEGIN:STANDARD
TZOFFSETFROM:+0200
TZOFFSETTO:+0100
TZNAME:CET
DTSTART:20221030T010000
END:STANDARD
END:VTIMEZONE
BEGIN:VEVENT
DTSTART;TZID=Europe/Paris:20210901T090000
DTEND;TZID=Europe/Paris:20210901T140000
DTSTAMP:20260425T031831
CREATED:20210809T093619Z
LAST-MODIFIED:20210809T093619Z
UID:5597-1630486800-1630504800@www.sologne-karting.com
SUMMARY:Licenciés
DESCRIPTION:
URL:https://www.sologne-karting.com/planning/licencies-222/
CATEGORIES:Licenciés karting
END:VEVENT
BEGIN:VEVENT
DTSTART;TZID=Europe/Paris:20210902T090000
DTEND;TZID=Europe/Paris:20210902T140000
DTSTAMP:20260425T031831
CREATED:20210809T093844Z
LAST-MODIFIED:20210809T093844Z
UID:5601-1630573200-1630591200@www.sologne-karting.com
SUMMARY:Licenciés
DESCRIPTION:
URL:https://www.sologne-karting.com/planning/licencies-223/
CATEGORIES:Licenciés karting
END:VEVENT
BEGIN:VEVENT
DTSTART;TZID=Europe/Paris:20210906T120000
DTEND;TZID=Europe/Paris:20210906T180000
DTSTAMP:20260425T031831
CREATED:20210809T113547Z
LAST-MODIFIED:20210809T113547Z
UID:5614-1630929600-1630951200@www.sologne-karting.com
SUMMARY:Licenciés
DESCRIPTION:
URL:https://www.sologne-karting.com/planning/licencies-224/
CATEGORIES:Licenciés karting
END:VEVENT
BEGIN:VEVENT
DTSTART;TZID=Europe/Paris:20210909T090000
DTEND;TZID=Europe/Paris:20210909T180000
DTSTAMP:20260425T031831
CREATED:20210809T114313Z
LAST-MODIFIED:20210809T114313Z
UID:5620-1631178000-1631210400@www.sologne-karting.com
SUMMARY:Licenciés
DESCRIPTION:
URL:https://www.sologne-karting.com/planning/licencies-225/
CATEGORIES:Licenciés karting
END:VEVENT
BEGIN:VEVENT
DTSTART;TZID=Europe/Paris:20210910T090000
DTEND;TZID=Europe/Paris:20210910T180000
DTSTAMP:20260425T031831
CREATED:20210809T114421Z
LAST-MODIFIED:20210809T114421Z
UID:5622-1631264400-1631296800@www.sologne-karting.com
SUMMARY:Licenciés
DESCRIPTION:
URL:https://www.sologne-karting.com/planning/licencies-226/
CATEGORIES:Licenciés karting
END:VEVENT
BEGIN:VEVENT
DTSTART;TZID=Europe/Paris:20210913T120000
DTEND;TZID=Europe/Paris:20210913T180000
DTSTAMP:20260425T031831
CREATED:20210809T114737Z
LAST-MODIFIED:20210809T114737Z
UID:5628-1631534400-1631556000@www.sologne-karting.com
SUMMARY:Licenciés
DESCRIPTION:
URL:https://www.sologne-karting.com/planning/licencies-227/
CATEGORIES:Licenciés karting
END:VEVENT
BEGIN:VEVENT
DTSTART;TZID=Europe/Paris:20210923T090000
DTEND;TZID=Europe/Paris:20210923T140000
DTSTAMP:20260425T031831
CREATED:20210819T105220Z
LAST-MODIFIED:20210819T105220Z
UID:5645-1632387600-1632405600@www.sologne-karting.com
SUMMARY:Licenciés
DESCRIPTION:
URL:https://www.sologne-karting.com/planning/licencies-228/
CATEGORIES:Licenciés karting
END:VEVENT
END:VCALENDAR