BEGIN:VCALENDAR
VERSION:2.0
PRODID:-//Sologne Karting, Circuit International de Salbris - ECPv6.15.20//NONSGML v1.0//EN
CALSCALE:GREGORIAN
METHOD:PUBLISH
X-WR-CALNAME:Sologne Karting, Circuit International de Salbris
X-ORIGINAL-URL:https://www.sologne-karting.com
X-WR-CALDESC:Évènements pour Sologne Karting, Circuit International de Salbris
REFRESH-INTERVAL;VALUE=DURATION:PT1H
X-Robots-Tag:noindex
X-PUBLISHED-TTL:PT1H
BEGIN:VTIMEZONE
TZID:Europe/Paris
BEGIN:DAYLIGHT
TZOFFSETFROM:+0100
TZOFFSETTO:+0200
TZNAME:CEST
DTSTART:20200329T010000
END:DAYLIGHT
BEGIN:STANDARD
TZOFFSETFROM:+0200
TZOFFSETTO:+0100
TZNAME:CET
DTSTART:20201025T010000
END:STANDARD
BEGIN:DAYLIGHT
TZOFFSETFROM:+0100
TZOFFSETTO:+0200
TZNAME:CEST
DTSTART:20210328T010000
END:DAYLIGHT
BEGIN:STANDARD
TZOFFSETFROM:+0200
TZOFFSETTO:+0100
TZNAME:CET
DTSTART:20211031T010000
END:STANDARD
BEGIN:DAYLIGHT
TZOFFSETFROM:+0100
TZOFFSETTO:+0200
TZNAME:CEST
DTSTART:20220327T010000
END:DAYLIGHT
BEGIN:STANDARD
TZOFFSETFROM:+0200
TZOFFSETTO:+0100
TZNAME:CET
DTSTART:20221030T010000
END:STANDARD
END:VTIMEZONE
BEGIN:VEVENT
DTSTART;TZID=Europe/Paris:20210801T100000
DTEND;TZID=Europe/Paris:20210801T130000
DTSTAMP:20260425T043115
CREATED:20210716T093639Z
LAST-MODIFIED:20210725T121035Z
UID:5468-1627812000-1627822800@www.sologne-karting.com
SUMMARY:Licenciés
DESCRIPTION:
URL:https://www.sologne-karting.com/planning/open-kart-5/
CATEGORIES:Licenciés karting
END:VEVENT
BEGIN:VEVENT
DTSTART;TZID=Europe/Paris:20210802T090000
DTEND;TZID=Europe/Paris:20210802T140000
DTSTAMP:20260425T043115
CREATED:20210716T093938Z
LAST-MODIFIED:20210716T093938Z
UID:5472-1627894800-1627912800@www.sologne-karting.com
SUMMARY:Licenciés
DESCRIPTION:
URL:https://www.sologne-karting.com/planning/licencies-201/
CATEGORIES:Licenciés karting
END:VEVENT
BEGIN:VEVENT
DTSTART;TZID=Europe/Paris:20210803T090000
DTEND;TZID=Europe/Paris:20210803T180000
DTSTAMP:20260425T043115
CREATED:20210716T094059Z
LAST-MODIFIED:20210716T094059Z
UID:5476-1627981200-1628013600@www.sologne-karting.com
SUMMARY:Licenciés
DESCRIPTION:
URL:https://www.sologne-karting.com/planning/licencies-202/
CATEGORIES:Licenciés karting
END:VEVENT
BEGIN:VEVENT
DTSTART;TZID=Europe/Paris:20210805T090000
DTEND;TZID=Europe/Paris:20210805T140000
DTSTAMP:20260425T043115
CREATED:20210716T094415Z
LAST-MODIFIED:20210716T094415Z
UID:5482-1628154000-1628172000@www.sologne-karting.com
SUMMARY:Licenciés
DESCRIPTION:
URL:https://www.sologne-karting.com/planning/licencies-203/
CATEGORIES:Licenciés karting
END:VEVENT
BEGIN:VEVENT
DTSTART;TZID=Europe/Paris:20210806T090000
DTEND;TZID=Europe/Paris:20210806T140000
DTSTAMP:20260425T043115
CREATED:20210716T094526Z
LAST-MODIFIED:20210716T094526Z
UID:5486-1628240400-1628258400@www.sologne-karting.com
SUMMARY:Licenciés
DESCRIPTION:
URL:https://www.sologne-karting.com/planning/licencies-204/
CATEGORIES:Licenciés karting
END:VEVENT
BEGIN:VEVENT
DTSTART;TZID=Europe/Paris:20210808T090000
DTEND;TZID=Europe/Paris:20210808T140000
DTSTAMP:20260425T043115
CREATED:20210716T094953Z
LAST-MODIFIED:20210728T143451Z
UID:5495-1628413200-1628431200@www.sologne-karting.com
SUMMARY:Licenciés et 2 roues
DESCRIPTION:
URL:https://www.sologne-karting.com/planning/licencies-205/
CATEGORIES:2 ROUES,Licenciés karting
END:VEVENT
BEGIN:VEVENT
DTSTART;TZID=Europe/Paris:20210809T090000
DTEND;TZID=Europe/Paris:20210809T140000
DTSTAMP:20260425T043115
CREATED:20210716T095130Z
LAST-MODIFIED:20210716T095130Z
UID:5499-1628499600-1628517600@www.sologne-karting.com
SUMMARY:Licenciés
DESCRIPTION:
URL:https://www.sologne-karting.com/planning/licencies-206/
CATEGORIES:Licenciés karting
END:VEVENT
BEGIN:VEVENT
DTSTART;TZID=Europe/Paris:20210810T090000
DTEND;TZID=Europe/Paris:20210810T180000
DTSTAMP:20260425T043115
CREATED:20210716T095315Z
LAST-MODIFIED:20210716T095315Z
UID:5504-1628586000-1628618400@www.sologne-karting.com
SUMMARY:Licenciés
DESCRIPTION:
URL:https://www.sologne-karting.com/planning/licencies-207/
CATEGORIES:Licenciés karting
END:VEVENT
BEGIN:VEVENT
DTSTART;TZID=Europe/Paris:20210812T090000
DTEND;TZID=Europe/Paris:20210812T140000
DTSTAMP:20260425T043115
CREATED:20210716T095604Z
LAST-MODIFIED:20210716T095604Z
UID:5511-1628758800-1628776800@www.sologne-karting.com
SUMMARY:Licenciés
DESCRIPTION:
URL:https://www.sologne-karting.com/planning/licencies-208/
CATEGORIES:Licenciés karting
END:VEVENT
BEGIN:VEVENT
DTSTART;TZID=Europe/Paris:20210813T090000
DTEND;TZID=Europe/Paris:20210813T140000
DTSTAMP:20260425T043115
CREATED:20210716T095746Z
LAST-MODIFIED:20210716T095746Z
UID:5515-1628845200-1628863200@www.sologne-karting.com
SUMMARY:Licenciés
DESCRIPTION:
URL:https://www.sologne-karting.com/planning/licencies-209/
CATEGORIES:Licenciés karting
END:VEVENT
BEGIN:VEVENT
DTSTART;TZID=Europe/Paris:20210814T090000
DTEND;TZID=Europe/Paris:20210814T140000
DTSTAMP:20260425T043115
CREATED:20210716T095905Z
LAST-MODIFIED:20210716T095905Z
UID:5519-1628931600-1628949600@www.sologne-karting.com
SUMMARY:Licenciés
DESCRIPTION:
URL:https://www.sologne-karting.com/planning/licencies-210/
CATEGORIES:Licenciés karting
END:VEVENT
BEGIN:VEVENT
DTSTART;TZID=Europe/Paris:20210815T100000
DTEND;TZID=Europe/Paris:20210815T130000
DTSTAMP:20260425T043115
CREATED:20210716T100135Z
LAST-MODIFIED:20210725T121118Z
UID:5524-1629021600-1629032400@www.sologne-karting.com
SUMMARY:Licenciés
DESCRIPTION:
URL:https://www.sologne-karting.com/planning/open-kart-6/
CATEGORIES:Licenciés karting
END:VEVENT
BEGIN:VEVENT
DTSTART;TZID=Europe/Paris:20210816T090000
DTEND;TZID=Europe/Paris:20210816T140000
DTSTAMP:20260425T043115
CREATED:20210716T100256Z
LAST-MODIFIED:20210716T100256Z
UID:5528-1629104400-1629122400@www.sologne-karting.com
SUMMARY:Licenciés
DESCRIPTION:
URL:https://www.sologne-karting.com/planning/licencies-211/
CATEGORIES:Licenciés karting
END:VEVENT
BEGIN:VEVENT
DTSTART;TZID=Europe/Paris:20210816T140000
DTEND;TZID=Europe/Paris:20210816T180000
DTSTAMP:20260425T043115
CREATED:20210716T100334Z
LAST-MODIFIED:20210809T083503Z
UID:5530-1629122400-1629136800@www.sologne-karting.com
SUMMARY:Licenciés
DESCRIPTION:
URL:https://www.sologne-karting.com/planning/location-104/
CATEGORIES:Licenciés karting
END:VEVENT
BEGIN:VEVENT
DTSTART;TZID=Europe/Paris:20210817T090000
DTEND;TZID=Europe/Paris:20210817T180000
DTSTAMP:20260425T043115
CREATED:20210716T101213Z
LAST-MODIFIED:20210716T101445Z
UID:5532-1629190800-1629223200@www.sologne-karting.com
SUMMARY:Licenciés
DESCRIPTION:
URL:https://www.sologne-karting.com/planning/licencies-212/
CATEGORIES:Licenciés karting
END:VEVENT
BEGIN:VEVENT
DTSTART;TZID=Europe/Paris:20210819T090000
DTEND;TZID=Europe/Paris:20210819T140000
DTSTAMP:20260425T043115
CREATED:20210809T083955Z
LAST-MODIFIED:20210809T083955Z
UID:5552-1629363600-1629381600@www.sologne-karting.com
SUMMARY:Licenciés
DESCRIPTION:
URL:https://www.sologne-karting.com/planning/licencies-213/
CATEGORIES:Licenciés karting
END:VEVENT
BEGIN:VEVENT
DTSTART;TZID=Europe/Paris:20210820T090000
DTEND;TZID=Europe/Paris:20210820T140000
DTSTAMP:20260425T043115
CREATED:20210809T084208Z
LAST-MODIFIED:20210809T084208Z
UID:5556-1629450000-1629468000@www.sologne-karting.com
SUMMARY:Licenciés
DESCRIPTION:
URL:https://www.sologne-karting.com/planning/licencies-214/
CATEGORIES:Licenciés karting
END:VEVENT
BEGIN:VEVENT
DTSTART;TZID=Europe/Paris:20210821T090000
DTEND;TZID=Europe/Paris:20210821T130000
DTSTAMP:20260425T043115
CREATED:20210809T084413Z
LAST-MODIFIED:20210809T084413Z
UID:5560-1629536400-1629550800@www.sologne-karting.com
SUMMARY:Licenciés 9H-13H
DESCRIPTION:
URL:https://www.sologne-karting.com/planning/licencies-9h-13h/
CATEGORIES:Licenciés karting
END:VEVENT
BEGIN:VEVENT
DTSTART;TZID=Europe/Paris:20210822T090000
DTEND;TZID=Europe/Paris:20210822T140000
DTSTAMP:20260425T043115
CREATED:20210809T084636Z
LAST-MODIFIED:20210809T084636Z
UID:5566-1629622800-1629640800@www.sologne-karting.com
SUMMARY:Licenciés
DESCRIPTION:
URL:https://www.sologne-karting.com/planning/licencies-215/
CATEGORIES:Licenciés karting
END:VEVENT
BEGIN:VEVENT
DTSTART;TZID=Europe/Paris:20210823T090000
DTEND;TZID=Europe/Paris:20210823T140000
DTSTAMP:20260425T043115
CREATED:20210809T085102Z
LAST-MODIFIED:20210809T085102Z
UID:5570-1629709200-1629727200@www.sologne-karting.com
SUMMARY:Licenciés
DESCRIPTION:
URL:https://www.sologne-karting.com/planning/licencies-216/
CATEGORIES:Licenciés karting
END:VEVENT
BEGIN:VEVENT
DTSTART;TZID=Europe/Paris:20210824T090000
DTEND;TZID=Europe/Paris:20210824T180000
DTSTAMP:20260425T043115
CREATED:20210809T085243Z
LAST-MODIFIED:20210809T085243Z
UID:5574-1629795600-1629828000@www.sologne-karting.com
SUMMARY:Licenciés
DESCRIPTION:
URL:https://www.sologne-karting.com/planning/licencies-217/
CATEGORIES:Licenciés karting
END:VEVENT
BEGIN:VEVENT
DTSTART;TZID=Europe/Paris:20210826T090000
DTEND;TZID=Europe/Paris:20210826T140000
DTSTAMP:20260425T043115
CREATED:20210809T085428Z
LAST-MODIFIED:20210809T085428Z
UID:5578-1629968400-1629986400@www.sologne-karting.com
SUMMARY:Licenciés
DESCRIPTION:
URL:https://www.sologne-karting.com/planning/licencies-218/
CATEGORIES:Licenciés karting
END:VEVENT
BEGIN:VEVENT
DTSTART;TZID=Europe/Paris:20210827T090000
DTEND;TZID=Europe/Paris:20210827T140000
DTSTAMP:20260425T043115
CREATED:20210809T085604Z
LAST-MODIFIED:20210809T085604Z
UID:5583-1630054800-1630072800@www.sologne-karting.com
SUMMARY:Licenciés
DESCRIPTION:
URL:https://www.sologne-karting.com/planning/licencies-219/
CATEGORIES:Licenciés karting
END:VEVENT
BEGIN:VEVENT
DTSTART;TZID=Europe/Paris:20210828T090000
DTEND;TZID=Europe/Paris:20210828T180000
DTSTAMP:20260425T043115
CREATED:20210824T195833Z
LAST-MODIFIED:20210824T202618Z
UID:5655-1630141200-1630173600@www.sologne-karting.com
SUMMARY:Journée licenciés
DESCRIPTION:Profitez de ce week-end fin de préparer le dernier rendez-vous de la NSK.
URL:https://www.sologne-karting.com/planning/journee-licencies/
CATEGORIES:Licenciés karting
ATTACH;FMTTYPE=image/jpeg:https://www.sologne-karting.com/wp-content/uploads/2021/08/Journee-kart.jpg
END:VEVENT
BEGIN:VEVENT
DTSTART;TZID=Europe/Paris:20210829T090000
DTEND;TZID=Europe/Paris:20210829T180000
DTSTAMP:20260425T043115
CREATED:20210824T195925Z
LAST-MODIFIED:20210824T202645Z
UID:5657-1630227600-1630260000@www.sologne-karting.com
SUMMARY:Journée licenciés
DESCRIPTION:Profitez de ce week-end fin de préparer le dernier rendez-vous de la NSK.
URL:https://www.sologne-karting.com/planning/journee-licencies-2/
CATEGORIES:Licenciés karting
ATTACH;FMTTYPE=image/jpeg:https://www.sologne-karting.com/wp-content/uploads/2021/08/Journee-kart.jpg
END:VEVENT
BEGIN:VEVENT
DTSTART;TZID=Europe/Paris:20210830T090000
DTEND;TZID=Europe/Paris:20210830T140000
DTSTAMP:20260425T043115
CREATED:20210809T093330Z
LAST-MODIFIED:20210809T093330Z
UID:5591-1630314000-1630332000@www.sologne-karting.com
SUMMARY:Licenciés
DESCRIPTION:
URL:https://www.sologne-karting.com/planning/licencies-220/
CATEGORIES:Licenciés karting
END:VEVENT
BEGIN:VEVENT
DTSTART;TZID=Europe/Paris:20210831T090000
DTEND;TZID=Europe/Paris:20210831T180000
DTSTAMP:20260425T043115
CREATED:20210809T093516Z
LAST-MODIFIED:20210809T093516Z
UID:5595-1630400400-1630432800@www.sologne-karting.com
SUMMARY:Licenciés
DESCRIPTION:
URL:https://www.sologne-karting.com/planning/licencies-221/
CATEGORIES:Licenciés karting
END:VEVENT
END:VCALENDAR