BEGIN:VCALENDAR
VERSION:2.0
PRODID:-//Sologne Karting, Circuit International de Salbris - ECPv6.15.20//NONSGML v1.0//EN
CALSCALE:GREGORIAN
METHOD:PUBLISH
X-WR-CALNAME:Sologne Karting, Circuit International de Salbris
X-ORIGINAL-URL:https://www.sologne-karting.com
X-WR-CALDESC:Évènements pour Sologne Karting, Circuit International de Salbris
REFRESH-INTERVAL;VALUE=DURATION:PT1H
X-Robots-Tag:noindex
X-PUBLISHED-TTL:PT1H
BEGIN:VTIMEZONE
TZID:Europe/Paris
BEGIN:DAYLIGHT
TZOFFSETFROM:+0100
TZOFFSETTO:+0200
TZNAME:CEST
DTSTART:20200329T010000
END:DAYLIGHT
BEGIN:STANDARD
TZOFFSETFROM:+0200
TZOFFSETTO:+0100
TZNAME:CET
DTSTART:20201025T010000
END:STANDARD
BEGIN:DAYLIGHT
TZOFFSETFROM:+0100
TZOFFSETTO:+0200
TZNAME:CEST
DTSTART:20210328T010000
END:DAYLIGHT
BEGIN:STANDARD
TZOFFSETFROM:+0200
TZOFFSETTO:+0100
TZNAME:CET
DTSTART:20211031T010000
END:STANDARD
BEGIN:DAYLIGHT
TZOFFSETFROM:+0100
TZOFFSETTO:+0200
TZNAME:CEST
DTSTART:20220327T010000
END:DAYLIGHT
BEGIN:STANDARD
TZOFFSETFROM:+0200
TZOFFSETTO:+0100
TZNAME:CET
DTSTART:20221030T010000
END:STANDARD
END:VTIMEZONE
BEGIN:VEVENT
DTSTART;TZID=Europe/Paris:20210706T090000
DTEND;TZID=Europe/Paris:20210706T180000
DTSTAMP:20260425T055411
CREATED:20210630T080831Z
LAST-MODIFIED:20210630T081113Z
UID:5375-1625562000-1625594400@www.sologne-karting.com
SUMMARY:LICENCIES
DESCRIPTION:
URL:https://www.sologne-karting.com/planning/licencies-189/
CATEGORIES:Licenciés karting
END:VEVENT
BEGIN:VEVENT
DTSTART;TZID=Europe/Paris:20210708T080000
DTEND;TZID=Europe/Paris:20210708T180000
DTSTAMP:20260425T055411
CREATED:20210630T121915Z
LAST-MODIFIED:20210630T121915Z
UID:5379-1625731200-1625767200@www.sologne-karting.com
SUMMARY:LICENCIES KFS
DESCRIPTION:
URL:https://www.sologne-karting.com/planning/licencies-kfs/
CATEGORIES:Licenciés karting
END:VEVENT
BEGIN:VEVENT
DTSTART;TZID=Europe/Paris:20210713T090000
DTEND;TZID=Europe/Paris:20210713T180000
DTSTAMP:20260425T055411
CREATED:20210630T122158Z
LAST-MODIFIED:20210630T122158Z
UID:5385-1626166800-1626199200@www.sologne-karting.com
SUMMARY:LICENCIES
DESCRIPTION:
URL:https://www.sologne-karting.com/planning/licencies-190/
CATEGORIES:Licenciés karting
END:VEVENT
BEGIN:VEVENT
DTSTART;TZID=Europe/Paris:20210714T090000
DTEND;TZID=Europe/Paris:20210714T140000
DTSTAMP:20260425T055411
CREATED:20210630T122249Z
LAST-MODIFIED:20210630T122249Z
UID:5387-1626253200-1626271200@www.sologne-karting.com
SUMMARY:LICENCIES
DESCRIPTION:
URL:https://www.sologne-karting.com/planning/licencies-191/
CATEGORIES:Licenciés karting
END:VEVENT
BEGIN:VEVENT
DTSTART;TZID=Europe/Paris:20210715T090000
DTEND;TZID=Europe/Paris:20210715T140000
DTSTAMP:20260425T055411
CREATED:20210630T123026Z
LAST-MODIFIED:20210630T123026Z
UID:5391-1626339600-1626357600@www.sologne-karting.com
SUMMARY:LICENCIES
DESCRIPTION:
URL:https://www.sologne-karting.com/planning/licencies-192/
CATEGORIES:Licenciés karting
END:VEVENT
BEGIN:VEVENT
DTSTART;TZID=Europe/Paris:20210716T090000
DTEND;TZID=Europe/Paris:20210716T140000
DTSTAMP:20260425T055411
CREATED:20210630T123158Z
LAST-MODIFIED:20210630T123158Z
UID:5395-1626426000-1626444000@www.sologne-karting.com
SUMMARY:LICENCIES
DESCRIPTION:
URL:https://www.sologne-karting.com/planning/licencies-193/
CATEGORIES:Licenciés karting
END:VEVENT
BEGIN:VEVENT
DTSTART;TZID=Europe/Paris:20210720T080000
DTEND;TZID=Europe/Paris:20210720T170000
DTSTAMP:20260425T055411
CREATED:20210630T123743Z
LAST-MODIFIED:20210630T123743Z
UID:5410-1626768000-1626800400@www.sologne-karting.com
SUMMARY:LICENCIES
DESCRIPTION:
URL:https://www.sologne-karting.com/planning/licencies-194/
CATEGORIES:Licenciés karting
END:VEVENT
BEGIN:VEVENT
DTSTART;TZID=Europe/Paris:20210722T090000
DTEND;TZID=Europe/Paris:20210722T140000
DTSTAMP:20260425T055411
CREATED:20210705T203346Z
LAST-MODIFIED:20210705T203346Z
UID:5441-1626944400-1626962400@www.sologne-karting.com
SUMMARY:Licenciés
DESCRIPTION:
URL:https://www.sologne-karting.com/planning/licencies-196/
CATEGORIES:Licenciés karting
END:VEVENT
BEGIN:VEVENT
DTSTART;TZID=Europe/Paris:20210723T090000
DTEND;TZID=Europe/Paris:20210723T140000
DTSTAMP:20260425T055411
CREATED:20210630T124421Z
LAST-MODIFIED:20210630T124421Z
UID:5416-1627030800-1627048800@www.sologne-karting.com
SUMMARY:LICENCIES
DESCRIPTION:
URL:https://www.sologne-karting.com/planning/licencies-195/
CATEGORIES:Licenciés karting
END:VEVENT
BEGIN:VEVENT
DTSTART;TZID=Europe/Paris:20210726T090000
DTEND;TZID=Europe/Paris:20210726T140000
DTSTAMP:20260425T055411
CREATED:20210705T203433Z
LAST-MODIFIED:20210705T203433Z
UID:5443-1627290000-1627308000@www.sologne-karting.com
SUMMARY:Licenciés
DESCRIPTION:
URL:https://www.sologne-karting.com/planning/licencies-197/
CATEGORIES:Licenciés karting
END:VEVENT
BEGIN:VEVENT
DTSTART;TZID=Europe/Paris:20210727T090000
DTEND;TZID=Europe/Paris:20210727T180000
DTSTAMP:20260425T055411
CREATED:20210705T203529Z
LAST-MODIFIED:20210705T203529Z
UID:5447-1627376400-1627408800@www.sologne-karting.com
SUMMARY:Licenciés
DESCRIPTION:
URL:https://www.sologne-karting.com/planning/licencies-198/
CATEGORIES:Licenciés karting
END:VEVENT
BEGIN:VEVENT
DTSTART;TZID=Europe/Paris:20210731T090000
DTEND;TZID=Europe/Paris:20210731T140000
DTSTAMP:20260425T055411
CREATED:20210705T204426Z
LAST-MODIFIED:20210705T204426Z
UID:5462-1627722000-1627740000@www.sologne-karting.com
SUMMARY:Licenciés
DESCRIPTION:
URL:https://www.sologne-karting.com/planning/licencies-200/
CATEGORIES:Licenciés karting
END:VEVENT
END:VCALENDAR