BEGIN:VCALENDAR
VERSION:2.0
PRODID:-//Sologne Karting, Circuit International de Salbris - ECPv6.15.20//NONSGML v1.0//EN
CALSCALE:GREGORIAN
METHOD:PUBLISH
X-ORIGINAL-URL:https://www.sologne-karting.com
X-WR-CALDESC:Évènements pour Sologne Karting, Circuit International de Salbris
REFRESH-INTERVAL;VALUE=DURATION:PT1H
X-Robots-Tag:noindex
X-PUBLISHED-TTL:PT1H
BEGIN:VTIMEZONE
TZID:Europe/Paris
BEGIN:DAYLIGHT
TZOFFSETFROM:+0100
TZOFFSETTO:+0200
TZNAME:CEST
DTSTART:20190331T010000
END:DAYLIGHT
BEGIN:STANDARD
TZOFFSETFROM:+0200
TZOFFSETTO:+0100
TZNAME:CET
DTSTART:20191027T010000
END:STANDARD
BEGIN:DAYLIGHT
TZOFFSETFROM:+0100
TZOFFSETTO:+0200
TZNAME:CEST
DTSTART:20200329T010000
END:DAYLIGHT
BEGIN:STANDARD
TZOFFSETFROM:+0200
TZOFFSETTO:+0100
TZNAME:CET
DTSTART:20201025T010000
END:STANDARD
BEGIN:DAYLIGHT
TZOFFSETFROM:+0100
TZOFFSETTO:+0200
TZNAME:CEST
DTSTART:20210328T010000
END:DAYLIGHT
BEGIN:STANDARD
TZOFFSETFROM:+0200
TZOFFSETTO:+0100
TZNAME:CET
DTSTART:20211031T010000
END:STANDARD
END:VTIMEZONE
BEGIN:VEVENT
DTSTART;TZID=Europe/Paris:20201002T090000
DTEND;TZID=Europe/Paris:20201002T143000
DTSTAMP:20260425T172353
CREATED:20200925T104456Z
LAST-MODIFIED:20200925T104456Z
UID:4663-1601629200-1601649000@www.sologne-karting.com
SUMMARY:Licenciés
DESCRIPTION:
URL:https://www.sologne-karting.com/planning/licencies-108/
CATEGORIES:Licenciés karting
END:VEVENT
BEGIN:VEVENT
DTSTART;TZID=Europe/Paris:20201004T090000
DTEND;TZID=Europe/Paris:20201004T130000
DTSTAMP:20260425T172353
CREATED:20200925T115033Z
LAST-MODIFIED:20200925T115033Z
UID:4757-1601802000-1601816400@www.sologne-karting.com
SUMMARY:Licenciés
DESCRIPTION:
URL:https://www.sologne-karting.com/planning/licencies-122/
CATEGORIES:Licenciés karting
END:VEVENT
BEGIN:VEVENT
DTSTART;TZID=Europe/Paris:20201005T120000
DTEND;TZID=Europe/Paris:20201005T180000
DTSTAMP:20260425T172353
CREATED:20200925T105224Z
LAST-MODIFIED:20200925T105224Z
UID:4670-1601899200-1601920800@www.sologne-karting.com
SUMMARY:Licenciés
DESCRIPTION:
URL:https://www.sologne-karting.com/planning/licencies-109/
CATEGORIES:Licenciés karting
END:VEVENT
BEGIN:VEVENT
DTSTART;TZID=Europe/Paris:20201009T090000
DTEND;TZID=Europe/Paris:20201009T143000
DTSTAMP:20260425T172353
CREATED:20200925T105605Z
LAST-MODIFIED:20200925T105605Z
UID:4679-1602234000-1602253800@www.sologne-karting.com
SUMMARY:Licenciés
DESCRIPTION:
URL:https://www.sologne-karting.com/planning/licencies-110/
CATEGORIES:Licenciés karting
END:VEVENT
BEGIN:VEVENT
DTSTART;TZID=Europe/Paris:20201010T090000
DTEND;TZID=Europe/Paris:20201010T140000
DTSTAMP:20260425T172353
CREATED:20200925T105848Z
LAST-MODIFIED:20201005T141407Z
UID:4683-1602320400-1602338400@www.sologne-karting.com
SUMMARY:Licenciés
DESCRIPTION:
URL:https://www.sologne-karting.com/planning/open-kart-3/
CATEGORIES:Licenciés karting
END:VEVENT
BEGIN:VEVENT
DTSTART;TZID=Europe/Paris:20201012T120000
DTEND;TZID=Europe/Paris:20201012T180000
DTSTAMP:20260425T172353
CREATED:20200925T110406Z
LAST-MODIFIED:20200925T110516Z
UID:4693-1602504000-1602525600@www.sologne-karting.com
SUMMARY:Licenciés
DESCRIPTION:
URL:https://www.sologne-karting.com/planning/licencies-111/
CATEGORIES:Licenciés karting
END:VEVENT
BEGIN:VEVENT
DTSTART;TZID=Europe/Paris:20201016T090000
DTEND;TZID=Europe/Paris:20201016T143000
DTSTAMP:20260425T172353
CREATED:20200925T110835Z
LAST-MODIFIED:20200925T110835Z
UID:4701-1602838800-1602858600@www.sologne-karting.com
SUMMARY:Licenciés
DESCRIPTION:
URL:https://www.sologne-karting.com/planning/licencies-112/
CATEGORIES:Licenciés karting
END:VEVENT
BEGIN:VEVENT
DTSTART;TZID=Europe/Paris:20201019T090000
DTEND;TZID=Europe/Paris:20201019T140000
DTSTAMP:20260425T172353
CREATED:20200925T111133Z
LAST-MODIFIED:20200925T111133Z
UID:4707-1603098000-1603116000@www.sologne-karting.com
SUMMARY:Licenciés
DESCRIPTION:
URL:https://www.sologne-karting.com/planning/licencies-113/
CATEGORIES:Licenciés karting
END:VEVENT
BEGIN:VEVENT
DTSTART;TZID=Europe/Paris:20201020T090000
DTEND;TZID=Europe/Paris:20201020T180000
DTSTAMP:20260425T172353
CREATED:20200925T111314Z
LAST-MODIFIED:20200925T111314Z
UID:4711-1603184400-1603216800@www.sologne-karting.com
SUMMARY:Licenciés
DESCRIPTION:
URL:https://www.sologne-karting.com/planning/licencies-114/
CATEGORIES:Licenciés karting
END:VEVENT
BEGIN:VEVENT
DTSTART;TZID=Europe/Paris:20201022T090000
DTEND;TZID=Europe/Paris:20201022T180000
DTSTAMP:20260425T172353
CREATED:20200925T111629Z
LAST-MODIFIED:20200925T111629Z
UID:4717-1603357200-1603389600@www.sologne-karting.com
SUMMARY:Licenciés
DESCRIPTION:
URL:https://www.sologne-karting.com/planning/licencies-115/
CATEGORIES:Licenciés karting
END:VEVENT
BEGIN:VEVENT
DTSTART;TZID=Europe/Paris:20201023T090000
DTEND;TZID=Europe/Paris:20201023T140000
DTSTAMP:20260425T172353
CREATED:20200925T111817Z
LAST-MODIFIED:20200925T111817Z
UID:4721-1603443600-1603461600@www.sologne-karting.com
SUMMARY:Licenciés
DESCRIPTION:
URL:https://www.sologne-karting.com/planning/licencies-116/
CATEGORIES:Licenciés karting
END:VEVENT
BEGIN:VEVENT
DTSTART;TZID=Europe/Paris:20201024T090000
DTEND;TZID=Europe/Paris:20201024T140000
DTSTAMP:20260425T172353
CREATED:20200925T112001Z
LAST-MODIFIED:20201022T090837Z
UID:4725-1603530000-1603548000@www.sologne-karting.com
SUMMARY:Licenciés
DESCRIPTION:
URL:https://www.sologne-karting.com/planning/piste-reservee-545/
CATEGORIES:Licenciés karting
END:VEVENT
BEGIN:VEVENT
DTSTART;TZID=Europe/Paris:20201026T090000
DTEND;TZID=Europe/Paris:20201026T140000
DTSTAMP:20260425T172353
CREATED:20200925T112505Z
LAST-MODIFIED:20200925T114202Z
UID:4731-1603702800-1603720800@www.sologne-karting.com
SUMMARY:Licenciés
DESCRIPTION:
URL:https://www.sologne-karting.com/planning/licencies-117/
CATEGORIES:Licenciés karting
END:VEVENT
BEGIN:VEVENT
DTSTART;TZID=Europe/Paris:20201027T090000
DTEND;TZID=Europe/Paris:20201027T180000
DTSTAMP:20260425T172353
CREATED:20200925T112654Z
LAST-MODIFIED:20200925T112654Z
UID:4735-1603789200-1603821600@www.sologne-karting.com
SUMMARY:Licenciés
DESCRIPTION:
URL:https://www.sologne-karting.com/planning/licencies-118/
CATEGORIES:Licenciés karting,Locations adultes/enfants
END:VEVENT
BEGIN:VEVENT
DTSTART;TZID=Europe/Paris:20201029T090000
DTEND;TZID=Europe/Paris:20201029T140000
DTSTAMP:20260425T172353
CREATED:20200925T112949Z
LAST-MODIFIED:20200925T112949Z
UID:4741-1603962000-1603980000@www.sologne-karting.com
SUMMARY:Licenciés
DESCRIPTION:
URL:https://www.sologne-karting.com/planning/licencies-119/
CATEGORIES:Licenciés karting
END:VEVENT
END:VCALENDAR