BEGIN:VCALENDAR
VERSION:2.0
PRODID:-//Sologne Karting, Circuit International de Salbris - ECPv6.15.20//NONSGML v1.0//EN
CALSCALE:GREGORIAN
METHOD:PUBLISH
X-ORIGINAL-URL:https://www.sologne-karting.com
X-WR-CALDESC:Évènements pour Sologne Karting, Circuit International de Salbris
REFRESH-INTERVAL;VALUE=DURATION:PT1H
X-Robots-Tag:noindex
X-PUBLISHED-TTL:PT1H
BEGIN:VTIMEZONE
TZID:Europe/Paris
BEGIN:DAYLIGHT
TZOFFSETFROM:+0100
TZOFFSETTO:+0200
TZNAME:CEST
DTSTART:20190331T010000
END:DAYLIGHT
BEGIN:STANDARD
TZOFFSETFROM:+0200
TZOFFSETTO:+0100
TZNAME:CET
DTSTART:20191027T010000
END:STANDARD
BEGIN:DAYLIGHT
TZOFFSETFROM:+0100
TZOFFSETTO:+0200
TZNAME:CEST
DTSTART:20200329T010000
END:DAYLIGHT
BEGIN:STANDARD
TZOFFSETFROM:+0200
TZOFFSETTO:+0100
TZNAME:CET
DTSTART:20201025T010000
END:STANDARD
BEGIN:DAYLIGHT
TZOFFSETFROM:+0100
TZOFFSETTO:+0200
TZNAME:CEST
DTSTART:20210328T010000
END:DAYLIGHT
BEGIN:STANDARD
TZOFFSETFROM:+0200
TZOFFSETTO:+0100
TZNAME:CET
DTSTART:20211031T010000
END:STANDARD
END:VTIMEZONE
BEGIN:VEVENT
DTSTART;TZID=Europe/Paris:20200801T090000
DTEND;TZID=Europe/Paris:20200801T170000
DTSTAMP:20260425T195047
CREATED:20200724T133315Z
LAST-MODIFIED:20200724T133315Z
UID:4588-1596272400-1596301200@www.sologne-karting.com
SUMMARY:Licenciés karting
DESCRIPTION:
URL:https://www.sologne-karting.com/planning/licencies-karting-628/
CATEGORIES:Licenciés karting
END:VEVENT
BEGIN:VEVENT
DTSTART;TZID=Europe/Paris:20200802T090000
DTEND;TZID=Europe/Paris:20200802T140000
DTSTAMP:20260425T195047
CREATED:20200724T133350Z
LAST-MODIFIED:20200724T133350Z
UID:4590-1596358800-1596376800@www.sologne-karting.com
SUMMARY:Licenciés karting
DESCRIPTION:
URL:https://www.sologne-karting.com/planning/licencies-karting-629/
CATEGORIES:Licenciés karting
END:VEVENT
BEGIN:VEVENT
DTSTART;TZID=Europe/Paris:20200803T100000
DTEND;TZID=Europe/Paris:20200803T180000
DTSTAMP:20260425T195047
CREATED:20200621T111948Z
LAST-MODIFIED:20200621T111948Z
UID:4483-1596448800-1596477600@www.sologne-karting.com
SUMMARY:Licenciés karting
DESCRIPTION:
URL:https://www.sologne-karting.com/planning/licencies-karting-613/
CATEGORIES:Licenciés karting
END:VEVENT
BEGIN:VEVENT
DTSTART;TZID=Europe/Paris:20200804T090000
DTEND;TZID=Europe/Paris:20200804T180000
DTSTAMP:20260425T195047
CREATED:20200621T112021Z
LAST-MODIFIED:20200621T112021Z
UID:4485-1596531600-1596564000@www.sologne-karting.com
SUMMARY:Licenciés karting
DESCRIPTION:
URL:https://www.sologne-karting.com/planning/licencies-karting-614/
CATEGORIES:Licenciés karting
END:VEVENT
BEGIN:VEVENT
DTSTART;TZID=Europe/Paris:20200805T090000
DTEND;TZID=Europe/Paris:20200805T140000
DTSTAMP:20260425T195047
CREATED:20200621T112108Z
LAST-MODIFIED:20200621T112108Z
UID:4487-1596618000-1596636000@www.sologne-karting.com
SUMMARY:Licenciés karting
DESCRIPTION:
URL:https://www.sologne-karting.com/planning/licencies-karting-615/
CATEGORIES:Licenciés karting
END:VEVENT
BEGIN:VEVENT
DTSTART;TZID=Europe/Paris:20200810T100000
DTEND;TZID=Europe/Paris:20200810T180000
DTSTAMP:20260425T195047
CREATED:20200621T112518Z
LAST-MODIFIED:20200621T112518Z
UID:4499-1597053600-1597082400@www.sologne-karting.com
SUMMARY:Licenciés karting
DESCRIPTION:
URL:https://www.sologne-karting.com/planning/licencies-karting-616/
CATEGORIES:Licenciés karting
END:VEVENT
BEGIN:VEVENT
DTSTART;TZID=Europe/Paris:20200811T090000
DTEND;TZID=Europe/Paris:20200811T180000
DTSTAMP:20260425T195047
CREATED:20200621T112549Z
LAST-MODIFIED:20200621T112549Z
UID:4501-1597136400-1597168800@www.sologne-karting.com
SUMMARY:Licenciés karting
DESCRIPTION:
URL:https://www.sologne-karting.com/planning/licencies-karting-617/
CATEGORIES:Licenciés karting
END:VEVENT
BEGIN:VEVENT
DTSTART;TZID=Europe/Paris:20200814T090000
DTEND;TZID=Europe/Paris:20200814T140000
DTSTAMP:20260425T195047
CREATED:20200621T112906Z
LAST-MODIFIED:20200810T122256Z
UID:4511-1597395600-1597413600@www.sologne-karting.com
SUMMARY:Licenciés karting
DESCRIPTION:
URL:https://www.sologne-karting.com/planning/licencies-karting-618/
CATEGORIES:Licenciés karting
END:VEVENT
BEGIN:VEVENT
DTSTART;TZID=Europe/Paris:20200815T090000
DTEND;TZID=Europe/Paris:20200815T140000
DTSTAMP:20260425T195047
CREATED:20200621T113032Z
LAST-MODIFIED:20200621T113032Z
UID:4515-1597482000-1597500000@www.sologne-karting.com
SUMMARY:Licenciés karting Adultes/Enfants
DESCRIPTION:
URL:https://www.sologne-karting.com/planning/licencies-karting-adultes-enfants/
CATEGORIES:Licenciés karting
END:VEVENT
BEGIN:VEVENT
DTSTART;TZID=Europe/Paris:20200817T090000
DTEND;TZID=Europe/Paris:20200817T180000
DTSTAMP:20260425T195047
CREATED:20200621T113401Z
LAST-MODIFIED:20200621T113401Z
UID:4525-1597654800-1597687200@www.sologne-karting.com
SUMMARY:Licenciés karting
DESCRIPTION:
URL:https://www.sologne-karting.com/planning/licencies-karting-619/
CATEGORIES:Licenciés karting
END:VEVENT
BEGIN:VEVENT
DTSTART;TZID=Europe/Paris:20200818T090000
DTEND;TZID=Europe/Paris:20200818T180000
DTSTAMP:20260425T195047
CREATED:20200621T113434Z
LAST-MODIFIED:20200621T113434Z
UID:4527-1597741200-1597773600@www.sologne-karting.com
SUMMARY:Licenciés karting
DESCRIPTION:
URL:https://www.sologne-karting.com/planning/licencies-karting-620/
CATEGORIES:Licenciés karting
END:VEVENT
BEGIN:VEVENT
DTSTART;TZID=Europe/Paris:20200821T090000
DTEND;TZID=Europe/Paris:20200821T140000
DTSTAMP:20260425T195047
CREATED:20200621T113750Z
LAST-MODIFIED:20200621T113750Z
UID:4537-1598000400-1598018400@www.sologne-karting.com
SUMMARY:Licenciés karting
DESCRIPTION:
URL:https://www.sologne-karting.com/planning/licencies-karting-622/
CATEGORIES:Licenciés karting
END:VEVENT
BEGIN:VEVENT
DTSTART;TZID=Europe/Paris:20200822T090000
DTEND;TZID=Europe/Paris:20200822T170000
DTSTAMP:20260425T195047
CREATED:20200621T113911Z
LAST-MODIFIED:20200621T113911Z
UID:4541-1598086800-1598115600@www.sologne-karting.com
SUMMARY:Licenciés kartingt
DESCRIPTION:
URL:https://www.sologne-karting.com/planning/licencies-kartingt/
CATEGORIES:Licenciés karting
END:VEVENT
BEGIN:VEVENT
DTSTART;TZID=Europe/Paris:20200823T090000
DTEND;TZID=Europe/Paris:20200823T140000
DTSTAMP:20260425T195047
CREATED:20200621T114034Z
LAST-MODIFIED:20200621T114034Z
UID:4545-1598173200-1598191200@www.sologne-karting.com
SUMMARY:Licenciés karting
DESCRIPTION:
URL:https://www.sologne-karting.com/planning/licencies-karting-623/
CATEGORIES:Licenciés karting
END:VEVENT
BEGIN:VEVENT
DTSTART;TZID=Europe/Paris:20200824T100000
DTEND;TZID=Europe/Paris:20200824T180000
DTSTAMP:20260425T195047
CREATED:20200621T114153Z
LAST-MODIFIED:20200621T114153Z
UID:4549-1598263200-1598292000@www.sologne-karting.com
SUMMARY:Licenciés karting
DESCRIPTION:
URL:https://www.sologne-karting.com/planning/licencies-karting-624/
CATEGORIES:Licenciés karting
END:VEVENT
BEGIN:VEVENT
DTSTART;TZID=Europe/Paris:20200825T090000
DTEND;TZID=Europe/Paris:20200825T180000
DTSTAMP:20260425T195047
CREATED:20200621T114228Z
LAST-MODIFIED:20200621T114228Z
UID:4551-1598346000-1598378400@www.sologne-karting.com
SUMMARY:Licenciés karting
DESCRIPTION:
URL:https://www.sologne-karting.com/planning/licencies-karting-625/
CATEGORIES:Licenciés karting
END:VEVENT
BEGIN:VEVENT
DTSTART;TZID=Europe/Paris:20200831T100000
DTEND;TZID=Europe/Paris:20200831T180000
DTSTAMP:20260425T195047
CREATED:20200621T114616Z
LAST-MODIFIED:20200621T114616Z
UID:4561-1598868000-1598896800@www.sologne-karting.com
SUMMARY:Licenciés karting
DESCRIPTION:
URL:https://www.sologne-karting.com/planning/licencies-karting-626/
CATEGORIES:Licenciés karting
END:VEVENT
END:VCALENDAR