BEGIN:VCALENDAR
VERSION:2.0
PRODID:-//Sologne Karting, Circuit International de Salbris - ECPv6.15.20//NONSGML v1.0//EN
CALSCALE:GREGORIAN
METHOD:PUBLISH
X-WR-CALNAME:Sologne Karting, Circuit International de Salbris
X-ORIGINAL-URL:https://www.sologne-karting.com
X-WR-CALDESC:Évènements pour Sologne Karting, Circuit International de Salbris
REFRESH-INTERVAL;VALUE=DURATION:PT1H
X-Robots-Tag:noindex
X-PUBLISHED-TTL:PT1H
BEGIN:VTIMEZONE
TZID:Europe/Paris
BEGIN:DAYLIGHT
TZOFFSETFROM:+0100
TZOFFSETTO:+0200
TZNAME:CEST
DTSTART:20190331T010000
END:DAYLIGHT
BEGIN:STANDARD
TZOFFSETFROM:+0200
TZOFFSETTO:+0100
TZNAME:CET
DTSTART:20191027T010000
END:STANDARD
BEGIN:DAYLIGHT
TZOFFSETFROM:+0100
TZOFFSETTO:+0200
TZNAME:CEST
DTSTART:20200329T010000
END:DAYLIGHT
BEGIN:STANDARD
TZOFFSETFROM:+0200
TZOFFSETTO:+0100
TZNAME:CET
DTSTART:20201025T010000
END:STANDARD
BEGIN:DAYLIGHT
TZOFFSETFROM:+0100
TZOFFSETTO:+0200
TZNAME:CEST
DTSTART:20210328T010000
END:DAYLIGHT
BEGIN:STANDARD
TZOFFSETFROM:+0200
TZOFFSETTO:+0100
TZNAME:CET
DTSTART:20211031T010000
END:STANDARD
END:VTIMEZONE
BEGIN:VEVENT
DTSTART;TZID=Europe/Paris:20200701T090000
DTEND;TZID=Europe/Paris:20200701T150000
DTSTAMP:20260425T211101
CREATED:20200620T161853Z
LAST-MODIFIED:20200620T161853Z
UID:4373-1593594000-1593615600@www.sologne-karting.com
SUMMARY:Licenciés
DESCRIPTION:
URL:https://www.sologne-karting.com/planning/licencies-99/
CATEGORIES:Licenciés karting
END:VEVENT
BEGIN:VEVENT
DTSTART;TZID=Europe/Paris:20200702T090000
DTEND;TZID=Europe/Paris:20200702T140000
DTSTAMP:20260425T211101
CREATED:20200620T162058Z
LAST-MODIFIED:20200620T162058Z
UID:4379-1593680400-1593698400@www.sologne-karting.com
SUMMARY:Licenciés karting
DESCRIPTION:
URL:https://www.sologne-karting.com/planning/licencies-karting-593/
CATEGORIES:Licenciés karting
END:VEVENT
BEGIN:VEVENT
DTSTART;TZID=Europe/Paris:20200703T090000
DTEND;TZID=Europe/Paris:20200703T180000
DTSTAMP:20260425T211101
CREATED:20200620T162134Z
LAST-MODIFIED:20200620T162134Z
UID:4381-1593766800-1593799200@www.sologne-karting.com
SUMMARY:Licenciés karting
DESCRIPTION:
URL:https://www.sologne-karting.com/planning/licencies-karting-594/
CATEGORIES:Licenciés karting
END:VEVENT
BEGIN:VEVENT
DTSTART;TZID=Europe/Paris:20200704T090000
DTEND;TZID=Europe/Paris:20200704T170000
DTSTAMP:20260425T211101
CREATED:20200620T162255Z
LAST-MODIFIED:20200620T162255Z
UID:4385-1593853200-1593882000@www.sologne-karting.com
SUMMARY:Licenciés karting
DESCRIPTION:
URL:https://www.sologne-karting.com/planning/licencies-karting-595/
CATEGORIES:Licenciés karting
END:VEVENT
BEGIN:VEVENT
DTSTART;TZID=Europe/Paris:20200705T090000
DTEND;TZID=Europe/Paris:20200705T140000
DTSTAMP:20260425T211101
CREATED:20200620T162415Z
LAST-MODIFIED:20200620T162427Z
UID:4389-1593939600-1593957600@www.sologne-karting.com
SUMMARY:Licenciés karting
DESCRIPTION:
URL:https://www.sologne-karting.com/planning/licencies-karting-596/
CATEGORIES:Licenciés karting
END:VEVENT
BEGIN:VEVENT
DTSTART;TZID=Europe/Paris:20200706T100000
DTEND;TZID=Europe/Paris:20200706T180000
DTSTAMP:20260425T211101
CREATED:20200621T104250Z
LAST-MODIFIED:20200621T104250Z
UID:4395-1594029600-1594058400@www.sologne-karting.com
SUMMARY:Licenciés karting
DESCRIPTION:
URL:https://www.sologne-karting.com/planning/licencies-karting-597/
CATEGORIES:Licenciés karting
END:VEVENT
BEGIN:VEVENT
DTSTART;TZID=Europe/Paris:20200707T090000
DTEND;TZID=Europe/Paris:20200707T180000
DTSTAMP:20260425T211101
CREATED:20200621T104344Z
LAST-MODIFIED:20200621T104344Z
UID:4397-1594112400-1594144800@www.sologne-karting.com
SUMMARY:Licenciés karting
DESCRIPTION:
URL:https://www.sologne-karting.com/planning/licencies-karting-598/
CATEGORIES:Licenciés karting
END:VEVENT
BEGIN:VEVENT
DTSTART;TZID=Europe/Paris:20200708T090000
DTEND;TZID=Europe/Paris:20200708T140000
DTSTAMP:20260425T211101
CREATED:20200621T104439Z
LAST-MODIFIED:20200621T104439Z
UID:4399-1594198800-1594216800@www.sologne-karting.com
SUMMARY:Licenciés karting
DESCRIPTION:
URL:https://www.sologne-karting.com/planning/licencies-karting-599/
CATEGORIES:Licenciés karting
END:VEVENT
BEGIN:VEVENT
DTSTART;TZID=Europe/Paris:20200710T090000
DTEND;TZID=Europe/Paris:20200710T140000
DTSTAMP:20260425T211101
CREATED:20200621T104842Z
LAST-MODIFIED:20200621T104842Z
UID:4407-1594371600-1594389600@www.sologne-karting.com
SUMMARY:Licenciés karting
DESCRIPTION:
URL:https://www.sologne-karting.com/planning/licencies-karting-600/
CATEGORIES:Licenciés karting
END:VEVENT
BEGIN:VEVENT
DTSTART;TZID=Europe/Paris:20200711T090000
DTEND;TZID=Europe/Paris:20200711T170000
DTSTAMP:20260425T211101
CREATED:20200621T105009Z
LAST-MODIFIED:20200621T105009Z
UID:4411-1594458000-1594486800@www.sologne-karting.com
SUMMARY:Licenciés karting
DESCRIPTION:
URL:https://www.sologne-karting.com/planning/licencies-karting-601/
CATEGORIES:Licenciés karting
END:VEVENT
BEGIN:VEVENT
DTSTART;TZID=Europe/Paris:20200712T090000
DTEND;TZID=Europe/Paris:20200712T140000
DTSTAMP:20260425T211101
CREATED:20200621T105158Z
LAST-MODIFIED:20200621T105158Z
UID:4415-1594544400-1594562400@www.sologne-karting.com
SUMMARY:Licenciés karting
DESCRIPTION:
URL:https://www.sologne-karting.com/planning/licencies-karting-602/
CATEGORIES:Licenciés karting
END:VEVENT
BEGIN:VEVENT
DTSTART;TZID=Europe/Paris:20200713T100000
DTEND;TZID=Europe/Paris:20200713T180000
DTSTAMP:20260425T211101
CREATED:20200621T105610Z
LAST-MODIFIED:20200621T105610Z
UID:4419-1594634400-1594663200@www.sologne-karting.com
SUMMARY:Licenciés karting
DESCRIPTION:
URL:https://www.sologne-karting.com/planning/licencies-karting-603/
CATEGORIES:Licenciés karting
END:VEVENT
BEGIN:VEVENT
DTSTART;TZID=Europe/Paris:20200717T090000
DTEND;TZID=Europe/Paris:20200717T140000
DTSTAMP:20260425T211101
CREATED:20200621T110121Z
LAST-MODIFIED:20200621T110121Z
UID:4431-1594976400-1594994400@www.sologne-karting.com
SUMMARY:Licenciés Karting
DESCRIPTION:
URL:https://www.sologne-karting.com/planning/licencies-karting-605/
CATEGORIES:Licenciés karting
END:VEVENT
BEGIN:VEVENT
DTSTART;TZID=Europe/Paris:20200718T090000
DTEND;TZID=Europe/Paris:20200718T180000
DTSTAMP:20260425T211101
CREATED:20200621T110333Z
LAST-MODIFIED:20200714T115801Z
UID:4437-1595062800-1595095200@www.sologne-karting.com
SUMMARY:Licenciés 2 roues + Licenciés karting
DESCRIPTION:
URL:https://www.sologne-karting.com/planning/licencies-2-roues/
CATEGORIES:Licenciés karting
END:VEVENT
BEGIN:VEVENT
DTSTART;TZID=Europe/Paris:20200721T090000
DTEND;TZID=Europe/Paris:20200721T180000
DTSTAMP:20260425T211101
CREATED:20200621T110613Z
LAST-MODIFIED:20200621T110613Z
UID:4445-1595322000-1595354400@www.sologne-karting.com
SUMMARY:Licenciés karting
DESCRIPTION:
URL:https://www.sologne-karting.com/planning/licencies-karting-606/
CATEGORIES:Licenciés karting
END:VEVENT
BEGIN:VEVENT
DTSTART;TZID=Europe/Paris:20200722T090000
DTEND;TZID=Europe/Paris:20200722T140000
DTSTAMP:20260425T211101
CREATED:20200621T110656Z
LAST-MODIFIED:20200621T110656Z
UID:4447-1595408400-1595426400@www.sologne-karting.com
SUMMARY:Licenciés karting
DESCRIPTION:
URL:https://www.sologne-karting.com/planning/licencies-karting-607/
CATEGORIES:Licenciés karting
END:VEVENT
BEGIN:VEVENT
DTSTART;TZID=Europe/Paris:20200724T090000
DTEND;TZID=Europe/Paris:20200724T140000
DTSTAMP:20260425T211101
CREATED:20200621T110924Z
LAST-MODIFIED:20200717T095027Z
UID:4455-1595581200-1595599200@www.sologne-karting.com
SUMMARY:PISTE RESERVEE
DESCRIPTION:
URL:https://www.sologne-karting.com/planning/licencies-karting-608/
CATEGORIES:Licenciés karting,Piste réservée
END:VEVENT
BEGIN:VEVENT
DTSTART;TZID=Europe/Paris:20200725T090000
DTEND;TZID=Europe/Paris:20200725T170000
DTSTAMP:20260425T211101
CREATED:20200621T111054Z
LAST-MODIFIED:20200621T111054Z
UID:4459-1595667600-1595696400@www.sologne-karting.com
SUMMARY:Licenciés karting
DESCRIPTION:
URL:https://www.sologne-karting.com/planning/licencies-karting-609/
CATEGORIES:Licenciés karting
END:VEVENT
BEGIN:VEVENT
DTSTART;TZID=Europe/Paris:20200726T090000
DTEND;TZID=Europe/Paris:20200726T140000
DTSTAMP:20260425T211101
CREATED:20200621T111202Z
LAST-MODIFIED:20200621T111202Z
UID:4463-1595754000-1595772000@www.sologne-karting.com
SUMMARY:Licenciés karting
DESCRIPTION:
URL:https://www.sologne-karting.com/planning/licencies-karting-610/
CATEGORIES:Licenciés karting
END:VEVENT
BEGIN:VEVENT
DTSTART;TZID=Europe/Paris:20200727T100000
DTEND;TZID=Europe/Paris:20200727T180000
DTSTAMP:20260425T211101
CREATED:20200621T111339Z
LAST-MODIFIED:20200621T111339Z
UID:4467-1595844000-1595872800@www.sologne-karting.com
SUMMARY:Licenciés karting
DESCRIPTION:
URL:https://www.sologne-karting.com/planning/licencies-karting-611/
CATEGORIES:Licenciés karting
END:VEVENT
BEGIN:VEVENT
DTSTART;TZID=Europe/Paris:20200728T090000
DTEND;TZID=Europe/Paris:20200728T180000
DTSTAMP:20260425T211101
CREATED:20200621T111412Z
LAST-MODIFIED:20200621T111412Z
UID:4469-1595926800-1595959200@www.sologne-karting.com
SUMMARY:Licenciés karting
DESCRIPTION:
URL:https://www.sologne-karting.com/planning/licencies-karting-612/
CATEGORIES:Licenciés karting
END:VEVENT
END:VCALENDAR