BEGIN:VCALENDAR
VERSION:2.0
PRODID:-//Sologne Karting, Circuit International de Salbris - ECPv6.15.20//NONSGML v1.0//EN
CALSCALE:GREGORIAN
METHOD:PUBLISH
X-WR-CALNAME:Sologne Karting, Circuit International de Salbris
X-ORIGINAL-URL:https://www.sologne-karting.com
X-WR-CALDESC:Évènements pour Sologne Karting, Circuit International de Salbris
REFRESH-INTERVAL;VALUE=DURATION:PT1H
X-Robots-Tag:noindex
X-PUBLISHED-TTL:PT1H
BEGIN:VTIMEZONE
TZID:Europe/Paris
BEGIN:DAYLIGHT
TZOFFSETFROM:+0100
TZOFFSETTO:+0200
TZNAME:CEST
DTSTART:20190331T010000
END:DAYLIGHT
BEGIN:STANDARD
TZOFFSETFROM:+0200
TZOFFSETTO:+0100
TZNAME:CET
DTSTART:20191027T010000
END:STANDARD
BEGIN:DAYLIGHT
TZOFFSETFROM:+0100
TZOFFSETTO:+0200
TZNAME:CEST
DTSTART:20200329T010000
END:DAYLIGHT
BEGIN:STANDARD
TZOFFSETFROM:+0200
TZOFFSETTO:+0100
TZNAME:CET
DTSTART:20201025T010000
END:STANDARD
BEGIN:DAYLIGHT
TZOFFSETFROM:+0100
TZOFFSETTO:+0200
TZNAME:CEST
DTSTART:20210328T010000
END:DAYLIGHT
BEGIN:STANDARD
TZOFFSETFROM:+0200
TZOFFSETTO:+0100
TZNAME:CET
DTSTART:20211031T010000
END:STANDARD
END:VTIMEZONE
BEGIN:VEVENT
DTSTART;TZID=Europe/Paris:20200201T090000
DTEND;TZID=Europe/Paris:20200201T170000
DTSTAMP:20260426T031211
CREATED:20200104T093741Z
LAST-MODIFIED:20200104T093741Z
UID:4100-1580547600-1580576400@www.sologne-karting.com
SUMMARY:Licenciés karting
DESCRIPTION:
URL:https://www.sologne-karting.com/planning/licencies-karting-586/
CATEGORIES:Licenciés karting
END:VEVENT
BEGIN:VEVENT
DTSTART;TZID=Europe/Paris:20200204T120000
DTEND;TZID=Europe/Paris:20200204T180000
DTSTAMP:20260426T031211
CREATED:20200130T123108Z
LAST-MODIFIED:20200130T123108Z
UID:4122-1580817600-1580839200@www.sologne-karting.com
SUMMARY:Licenciés
DESCRIPTION:
URL:https://www.sologne-karting.com/planning/licencies-62/
CATEGORIES:Licenciés karting
END:VEVENT
BEGIN:VEVENT
DTSTART;TZID=Europe/Paris:20200206T080000
DTEND;TZID=Europe/Paris:20200206T180000
DTSTAMP:20260426T031211
CREATED:20200130T120228Z
LAST-MODIFIED:20200130T120228Z
UID:4120-1580976000-1581012000@www.sologne-karting.com
SUMMARY:Licenciés Karting
DESCRIPTION:
URL:https://www.sologne-karting.com/planning/licencies-karting-587/
CATEGORIES:Licenciés karting
END:VEVENT
BEGIN:VEVENT
DTSTART;TZID=Europe/Paris:20200207T090000
DTEND;TZID=Europe/Paris:20200207T180000
DTSTAMP:20260426T031211
CREATED:20200130T123507Z
LAST-MODIFIED:20200130T124003Z
UID:4125-1581066000-1581098400@www.sologne-karting.com
SUMMARY:Licenciés Karting
DESCRIPTION:
URL:https://www.sologne-karting.com/planning/licencies-63/
CATEGORIES:Licenciés karting
END:VEVENT
BEGIN:VEVENT
DTSTART;TZID=Europe/Paris:20200208T090000
DTEND;TZID=Europe/Paris:20200208T180000
DTSTAMP:20260426T031211
CREATED:20200130T123601Z
LAST-MODIFIED:20200130T123830Z
UID:4127-1581152400-1581184800@www.sologne-karting.com
SUMMARY:Licenciés Karting
DESCRIPTION:
URL:https://www.sologne-karting.com/planning/licencies-64/
CATEGORIES:Licenciés karting
END:VEVENT
BEGIN:VEVENT
DTSTART;TZID=Europe/Paris:20200209T090000
DTEND;TZID=Europe/Paris:20200209T180000
DTSTAMP:20260426T031211
CREATED:20200130T123659Z
LAST-MODIFIED:20200130T123817Z
UID:4129-1581238800-1581271200@www.sologne-karting.com
SUMMARY:Licenciés Karting
DESCRIPTION:
URL:https://www.sologne-karting.com/planning/licencies-65/
CATEGORIES:Licenciés karting
END:VEVENT
BEGIN:VEVENT
DTSTART;TZID=Europe/Paris:20200211T120000
DTEND;TZID=Europe/Paris:20200211T180000
DTSTAMP:20260426T031211
CREATED:20200130T124100Z
LAST-MODIFIED:20200130T124100Z
UID:4134-1581422400-1581444000@www.sologne-karting.com
SUMMARY:Licenciés Karting
DESCRIPTION:
URL:https://www.sologne-karting.com/planning/licencies-karting-588/
CATEGORIES:Licenciés karting
END:VEVENT
BEGIN:VEVENT
DTSTART;TZID=Europe/Paris:20200213T090000
DTEND;TZID=Europe/Paris:20200213T180000
DTSTAMP:20260426T031211
CREATED:20200130T124205Z
LAST-MODIFIED:20200130T124205Z
UID:4137-1581584400-1581616800@www.sologne-karting.com
SUMMARY:Licenciés Karting
DESCRIPTION:
URL:https://www.sologne-karting.com/planning/licencies-karting-589/
CATEGORIES:Licenciés karting
END:VEVENT
BEGIN:VEVENT
DTSTART;TZID=Europe/Paris:20200214T080000
DTEND;TZID=Europe/Paris:20200214T180000
DTSTAMP:20260426T031211
CREATED:20200130T124304Z
LAST-MODIFIED:20200130T124304Z
UID:4139-1581667200-1581703200@www.sologne-karting.com
SUMMARY:Licenciés Karting
DESCRIPTION:
URL:https://www.sologne-karting.com/planning/licencies-karting-590/
CATEGORIES:Licenciés karting
END:VEVENT
BEGIN:VEVENT
DTSTART;TZID=Europe/Paris:20200215T090000
DTEND;TZID=Europe/Paris:20200215T140000
DTSTAMP:20260426T031211
CREATED:20200130T124400Z
LAST-MODIFIED:20200130T124400Z
UID:4141-1581757200-1581775200@www.sologne-karting.com
SUMMARY:Licenciés Karting
DESCRIPTION:
URL:https://www.sologne-karting.com/planning/licencies-karting-591/
CATEGORIES:Licenciés karting
END:VEVENT
BEGIN:VEVENT
DTSTART;TZID=Europe/Paris:20200216T090000
DTEND;TZID=Europe/Paris:20200216T140000
DTSTAMP:20260426T031211
CREATED:20200130T130305Z
LAST-MODIFIED:20200130T130305Z
UID:4148-1581843600-1581861600@www.sologne-karting.com
SUMMARY:Licenciés Karting
DESCRIPTION:
URL:https://www.sologne-karting.com/planning/licencies-karting-592/
CATEGORIES:Licenciés karting
END:VEVENT
BEGIN:VEVENT
DTSTART;TZID=Europe/Paris:20200217T090000
DTEND;TZID=Europe/Paris:20200217T140000
DTSTAMP:20260426T031211
CREATED:20200130T130838Z
LAST-MODIFIED:20200130T131416Z
UID:4154-1581930000-1581948000@www.sologne-karting.com
SUMMARY:Licenciés
DESCRIPTION:
URL:https://www.sologne-karting.com/planning/licencies-66/
CATEGORIES:Licenciés karting
END:VEVENT
BEGIN:VEVENT
DTSTART;TZID=Europe/Paris:20200220T090000
DTEND;TZID=Europe/Paris:20200220T180000
DTSTAMP:20260426T031211
CREATED:20200130T133003Z
LAST-MODIFIED:20200130T133003Z
UID:4166-1582189200-1582221600@www.sologne-karting.com
SUMMARY:Licenciés
DESCRIPTION:
URL:https://www.sologne-karting.com/planning/licencies-68/
CATEGORIES:Licenciés karting
END:VEVENT
BEGIN:VEVENT
DTSTART;TZID=Europe/Paris:20200225T090000
DTEND;TZID=Europe/Paris:20200225T180000
DTSTAMP:20260426T031211
CREATED:20200216T170955Z
LAST-MODIFIED:20200216T170955Z
UID:4176-1582621200-1582653600@www.sologne-karting.com
SUMMARY:Licenciés
DESCRIPTION:
URL:https://www.sologne-karting.com/planning/licencies-69/
CATEGORIES:Licenciés karting
END:VEVENT
BEGIN:VEVENT
DTSTART;TZID=Europe/Paris:20200227T090000
DTEND;TZID=Europe/Paris:20200227T140000
DTSTAMP:20260426T031211
CREATED:20200216T171231Z
LAST-MODIFIED:20200216T171231Z
UID:4182-1582794000-1582812000@www.sologne-karting.com
SUMMARY:Licenciés
DESCRIPTION:
URL:https://www.sologne-karting.com/planning/licencies-70/
CATEGORIES:Licenciés karting
END:VEVENT
BEGIN:VEVENT
DTSTART;TZID=Europe/Paris:20200228T090000
DTEND;TZID=Europe/Paris:20200228T140000
DTSTAMP:20260426T031211
CREATED:20200216T171359Z
LAST-MODIFIED:20200216T171359Z
UID:4186-1582880400-1582898400@www.sologne-karting.com
SUMMARY:Licenciés
DESCRIPTION:
URL:https://www.sologne-karting.com/planning/licencies-71/
CATEGORIES:Licenciés karting
END:VEVENT
BEGIN:VEVENT
DTSTART;TZID=Europe/Paris:20200229T090000
DTEND;TZID=Europe/Paris:20200229T140000
DTSTAMP:20260426T031211
CREATED:20200216T171636Z
LAST-MODIFIED:20200216T171636Z
UID:4190-1582966800-1582984800@www.sologne-karting.com
SUMMARY:Licenciés
DESCRIPTION:
URL:https://www.sologne-karting.com/planning/licencies-72/
CATEGORIES:Licenciés karting
END:VEVENT
END:VCALENDAR